View In:
ArcGIS JavaScript
ArcGIS Online Map Viewer
ArcGIS Earth
Service Description: Hosted/20211230_UNDP_0m57_WV02_Nagla_Nigeria
Name: Hosted/20211230_UNDP_0m57_WV02_Nagla_Nigeria
Description:
Single Fused Map Cache: true
Tile Info:
- Height: 256
- Width: 256
- DPI: 96
-
Levels of Detail: 9
-
Level ID: 0
[ Start Tile, End Tile ]
- Resolution: 128.24005335707858
- Scale: 484685.8464641456
-
Level ID: 1
[ Start Tile, End Tile ]
- Resolution: 64.12002667853929
- Scale: 242342.9232320728
-
Level ID: 2
[ Start Tile, End Tile ]
- Resolution: 32.060013339269645
- Scale: 121171.4616160364
-
Level ID: 3
[ Start Tile, End Tile ]
- Resolution: 16.030006669634822
- Scale: 60585.7308080182
-
Level ID: 4
[ Start Tile, End Tile ]
- Resolution: 8.015003334817411
- Scale: 30292.8654040091
-
Level ID: 5
[ Start Tile, End Tile ]
- Resolution: 4.007501667408706
- Scale: 15146.43270200455
-
Level ID: 6
[ Start Tile, End Tile ]
- Resolution: 2.003750833704353
- Scale: 7573.216351002275
-
Level ID: 7
[ Start Tile, End Tile ]
- Resolution: 1.0018754168521764
- Scale: 3786.6081755011373
-
Level ID: 8
[ Start Tile, End Tile ]
- Resolution: 0.5009377084260882
- Scale: 1893.3040877505687
- Format: LERC2D
- Compression Quality: 100000.0
- LERC Error: 0.1
- Origin: X: 1568169.4666999988
Y: 1404617.7151000001
- Spatial Reference: 102100
(3857)
LatestVCSWkid(0)
Storage Info:
- Storage Format: esriMapCacheStorageModeCompactV2
- Packet Size: 16
Extent:
XMin: 1568169.4666999988
YMin: 1367358.4692849761
XMax: 1590370.5249997347
YMax: 1404617.7151000001
Spatial Reference: 102100
(3857)
LatestVCSWkid(0)
Initial Extent:
XMin: 1568169.4666999988
YMin: 1367358.4692849761
XMax: 1590370.5249997347
YMax: 1404617.7151000001
Spatial Reference: 102100
(3857)
LatestVCSWkid(0)
Full Extent:
XMin: 1568169.4666999988
YMin: 1367358.4692849761
XMax: 1590370.5249997347
YMax: 1404617.7151000001
Spatial Reference: 102100
(3857)
LatestVCSWkid(0)
Pixel Size X: 0.5009377084260901
Pixel Size Y: 0.5009377084260882
Band Count: 3
Pixel Type: U8
RasterFunction Infos: {"rasterFunctionInfos": [{
"name": "None",
"description": "",
"help": ""
}]}
Mensuration Capabilities: Basic
Inspection Capabilities:
Has Histograms: true
Has Colormap: false
Has Multi Dimensions : false
Rendering Rule:
Min Scale: 0
Max Scale: 0
Copyright Text:
Service Data Type: esriImageServiceDataTypeRGB
Min Values: 1, 1, 1
Max Values: 255, 255, 255
Mean Values: 156.1322844535308, 137.8822142215826, 116.72892650513519
Standard Deviation Values: 27.810754544002634, 24.96215303879585, 21.62240121410291
Object ID Field:
Fields:
None
Default Mosaic Method: Center
Allowed Mosaic Methods:
SortField:
SortValue: null
Mosaic Operator: First
Default Compression Quality: 75
Default Resampling Method: Bilinear
Max Record Count: null
Max Image Height: 4100
Max Image Width: 15000
Max Download Image Count: null
Max Mosaic Image Count: null
Allow Raster Function: true
Allow Copy: true
Allow Analysis: true
Allow Compute TiePoints: false
Supports Statistics: false
Supports Advanced Queries: false
Use StandardizedQueries: true
Raster Type Infos:
Name: Raster Dataset
Description: Supports all ArcGIS Raster Datasets
Help:
Has Raster Attribute Table: false
Edit Fields Info: null
Ownership Based AccessControl For Rasters: null
Child Resources:
Info
Histograms
Statistics
Key Properties
Legend
Raster Function Infos
Supported Operations:
Export Image
Identify
Compute Histograms
Compute Statistics Histograms
Get Samples
Compute Class Statistics
Query Boundary
Compute Pixel Location
Compute Angles
Validate
Project