View In:
ArcGIS JavaScript
ArcGIS Online Map Viewer
ArcGIS Earth
Service Description: Hosted/20220122_0m38_WV03_VNIR_Kablewa_Clip
Name: Hosted/20220122_0m38_WV03_VNIR_Kablewa_Clip
Description:
Single Fused Map Cache: true
Tile Info:
- Height: 256
- Width: 256
- DPI: 96
-
Levels of Detail: 8
-
Level ID: 0
[ Start Tile, End Tile ]
- Resolution: 48.295559187096416
- Scale: 182534.03185881465
-
Level ID: 1
[ Start Tile, End Tile ]
- Resolution: 24.147779593548208
- Scale: 91267.01592940732
-
Level ID: 2
[ Start Tile, End Tile ]
- Resolution: 12.073889796774104
- Scale: 45633.50796470366
-
Level ID: 3
[ Start Tile, End Tile ]
- Resolution: 6.036944898387052
- Scale: 22816.75398235183
-
Level ID: 4
[ Start Tile, End Tile ]
- Resolution: 3.018472449193526
- Scale: 11408.376991175915
-
Level ID: 5
[ Start Tile, End Tile ]
- Resolution: 1.509236224596763
- Scale: 5704.188495587958
-
Level ID: 6
[ Start Tile, End Tile ]
- Resolution: 0.7546181122983815
- Scale: 2852.094247793979
-
Level ID: 7
[ Start Tile, End Tile ]
- Resolution: 0.37730905614919075
- Scale: 1426.0471238969894
- Format: LERC2D
- Compression Quality: 100000.0
- LERC Error: 0.1
- Origin: X: 1437140.0102999993
Y: 1574860.8160000003
- Spatial Reference: 102100
(3857)
LatestVCSWkid(0)
Storage Info:
- Storage Format: esriMapCacheStorageModeCompactV2
- Packet Size: 16
Extent:
XMin: 1437140.0102999993
YMin: 1567866.6380261627
XMax: 1451701.498703965
YMax: 1574860.8160000003
Spatial Reference: 102100
(3857)
LatestVCSWkid(0)
Initial Extent:
XMin: 1437140.0102999993
YMin: 1567866.6380261627
XMax: 1451701.498703965
YMax: 1574860.8160000003
Spatial Reference: 102100
(3857)
LatestVCSWkid(0)
Full Extent:
XMin: 1437140.0102999993
YMin: 1567866.6380261627
XMax: 1451701.498703965
YMax: 1574860.8160000003
Spatial Reference: 102100
(3857)
LatestVCSWkid(0)
Pixel Size X: 0.37730905614919075
Pixel Size Y: 0.3773090561491931
Band Count: 3
Pixel Type: U8
RasterFunction Infos: {"rasterFunctionInfos": [{
"name": "None",
"description": "",
"help": ""
}]}
Mensuration Capabilities: Basic
Inspection Capabilities:
Has Histograms: true
Has Colormap: false
Has Multi Dimensions : false
Rendering Rule:
Min Scale: 0
Max Scale: 0
Copyright Text:
Service Data Type: esriImageServiceDataTypeRGB
Min Values: 1, 1, 1
Max Values: 255, 255, 255
Mean Values: 165.99722221872833, 155.69125838355765, 136.27648690689466
Standard Deviation Values: 22.3407626065926, 21.05916937275146, 18.36609759839435
Object ID Field:
Fields:
None
Default Mosaic Method: Center
Allowed Mosaic Methods:
SortField:
SortValue: null
Mosaic Operator: First
Default Compression Quality: 75
Default Resampling Method: Bilinear
Max Record Count: null
Max Image Height: 4100
Max Image Width: 15000
Max Download Image Count: null
Max Mosaic Image Count: null
Allow Raster Function: true
Allow Copy: true
Allow Analysis: true
Allow Compute TiePoints: false
Supports Statistics: false
Supports Advanced Queries: false
Use StandardizedQueries: true
Raster Type Infos:
Name: Raster Dataset
Description: Supports all ArcGIS Raster Datasets
Help:
Has Raster Attribute Table: false
Edit Fields Info: null
Ownership Based AccessControl For Rasters: null
Child Resources:
Info
Histograms
Statistics
Key Properties
Legend
Raster Function Infos
Supported Operations:
Export Image
Identify
Compute Histograms
Compute Statistics Histograms
Get Samples
Compute Class Statistics
Query Boundary
Compute Pixel Location
Compute Angles
Validate
Project