View In:
ArcGIS JavaScript
ArcGIS Online Map Viewer
ArcGIS Earth
Service Description: Hosted/20220122_0m38_WV03_VNIR_Nguigmi2_Clip
Name: Hosted/20220122_0m38_WV03_VNIR_Nguigmi2_Clip
Description:
Single Fused Map Cache: true
Tile Info:
- Height: 256
- Width: 256
- DPI: 96
-
Levels of Detail: 8
-
Level ID: 0
[ Start Tile, End Tile ]
- Resolution: 48.46429009339925
- Scale: 183171.75369380432
-
Level ID: 1
[ Start Tile, End Tile ]
- Resolution: 24.232145046699625
- Scale: 91585.87684690216
-
Level ID: 2
[ Start Tile, End Tile ]
- Resolution: 12.116072523349812
- Scale: 45792.93842345108
-
Level ID: 3
[ Start Tile, End Tile ]
- Resolution: 6.058036261674906
- Scale: 22896.46921172554
-
Level ID: 4
[ Start Tile, End Tile ]
- Resolution: 3.029018130837453
- Scale: 11448.23460586277
-
Level ID: 5
[ Start Tile, End Tile ]
- Resolution: 1.5145090654187265
- Scale: 5724.117302931385
-
Level ID: 6
[ Start Tile, End Tile ]
- Resolution: 0.7572545327093633
- Scale: 2862.0586514656925
-
Level ID: 7
[ Start Tile, End Tile ]
- Resolution: 0.37862726635468164
- Scale: 1431.0293257328462
- Format: LERC2D
- Compression Quality: 100000.0
- LERC Error: 0.1
- Origin: X: 1439882.3889999986
Y: 1596253.751800001
- Spatial Reference: 102100
(3857)
LatestVCSWkid(0)
Storage Info:
- Storage Format: esriMapCacheStorageModeCompactV2
- Packet Size: 16
Extent:
XMin: 1439882.3889999986
YMin: 1589259.3703086309
XMax: 1453803.7563293276
YMax: 1596253.751800001
Spatial Reference: 102100
(3857)
LatestVCSWkid(0)
Initial Extent:
XMin: 1439882.3889999986
YMin: 1589259.3703086309
XMax: 1453803.7563293276
YMax: 1596253.751800001
Spatial Reference: 102100
(3857)
LatestVCSWkid(0)
Full Extent:
XMin: 1439882.3889999986
YMin: 1589259.3703086309
XMax: 1453803.7563293276
YMax: 1596253.751800001
Spatial Reference: 102100
(3857)
LatestVCSWkid(0)
Pixel Size X: 0.37862726635468397
Pixel Size Y: 0.37862726635468164
Band Count: 3
Pixel Type: U8
RasterFunction Infos: {"rasterFunctionInfos": [{
"name": "None",
"description": "",
"help": ""
}]}
Mensuration Capabilities: Basic
Inspection Capabilities:
Has Histograms: true
Has Colormap: false
Has Multi Dimensions : false
Rendering Rule:
Min Scale: 0
Max Scale: 0
Copyright Text:
Service Data Type: esriImageServiceDataTypeRGB
Min Values: 1, 1, 1
Max Values: 255, 255, 255
Mean Values: 163.75715980369847, 157.47764554190795, 141.60850440558406
Standard Deviation Values: 36.929269173153095, 34.350220989802374, 30.811880102355467
Object ID Field:
Fields:
None
Default Mosaic Method: Center
Allowed Mosaic Methods:
SortField:
SortValue: null
Mosaic Operator: First
Default Compression Quality: 75
Default Resampling Method: Bilinear
Max Record Count: null
Max Image Height: 4100
Max Image Width: 15000
Max Download Image Count: null
Max Mosaic Image Count: null
Allow Raster Function: true
Allow Copy: true
Allow Analysis: true
Allow Compute TiePoints: false
Supports Statistics: false
Supports Advanced Queries: false
Use StandardizedQueries: true
Raster Type Infos:
Name: Raster Dataset
Description: Supports all ArcGIS Raster Datasets
Help:
Has Raster Attribute Table: false
Edit Fields Info: null
Ownership Based AccessControl For Rasters: null
Child Resources:
Info
Histograms
Statistics
Key Properties
Legend
Raster Function Infos
Supported Operations:
Export Image
Identify
Compute Histograms
Compute Statistics Histograms
Get Samples
Compute Class Statistics
Query Boundary
Compute Pixel Location
Compute Angles
Validate
Project