View In:
ArcGIS JavaScript
ArcGIS Online Map Viewer
ArcGIS Earth
Service Description: Hosted/20220210_MLI_0m35_WV03_VNIR_Bandiagara
Name: Hosted/20220210_MLI_0m35_WV03_VNIR_Bandiagara
Description:
Single Fused Map Cache: true
Tile Info:
- Height: 256
- Width: 256
- DPI: 96
-
Levels of Detail: 8
-
Level ID: 0
[ Start Tile, End Tile ]
- Resolution: 44.3355593036573
- Scale: 167567.13309935882
-
Level ID: 1
[ Start Tile, End Tile ]
- Resolution: 22.16777965182865
- Scale: 83783.56654967941
-
Level ID: 2
[ Start Tile, End Tile ]
- Resolution: 11.083889825914325
- Scale: 41891.783274839705
-
Level ID: 3
[ Start Tile, End Tile ]
- Resolution: 5.541944912957162
- Scale: 20945.891637419852
-
Level ID: 4
[ Start Tile, End Tile ]
- Resolution: 2.770972456478581
- Scale: 10472.945818709926
-
Level ID: 5
[ Start Tile, End Tile ]
- Resolution: 1.3854862282392906
- Scale: 5236.472909354963
-
Level ID: 6
[ Start Tile, End Tile ]
- Resolution: 0.6927431141196453
- Scale: 2618.2364546774816
-
Level ID: 7
[ Start Tile, End Tile ]
- Resolution: 0.34637155705982264
- Scale: 1309.1182273387408
- Format: LERC2D
- Compression Quality: 100000.0
- LERC Error: 0.1
- Origin: X: -409616.5788999982
Y: 1617333.6241999988
- Spatial Reference: 102100
(3857)
LatestVCSWkid(0)
Storage Info:
- Storage Format: esriMapCacheStorageModeCompactV2
- Packet Size: 16
Extent:
XMin: -409616.5788999982
YMin: 1611349.7091802333
XMax: -395154.5272780794
YMax: 1617333.6241999988
Spatial Reference: 102100
(3857)
LatestVCSWkid(0)
Initial Extent:
XMin: -409616.5788999982
YMin: 1611349.7091802333
XMax: -395154.5272780794
YMax: 1617333.6241999988
Spatial Reference: 102100
(3857)
LatestVCSWkid(0)
Full Extent:
XMin: -409616.5788999982
YMin: 1611349.7091802333
XMax: -395154.5272780794
YMax: 1617333.6241999988
Spatial Reference: 102100
(3857)
LatestVCSWkid(0)
Pixel Size X: 0.34637155705982325
Pixel Size Y: 0.34637155705982264
Band Count: 3
Pixel Type: U8
RasterFunction Infos: {"rasterFunctionInfos": [{
"name": "None",
"description": "",
"help": ""
}]}
Mensuration Capabilities: Basic
Inspection Capabilities:
Has Histograms: true
Has Colormap: false
Has Multi Dimensions : false
Rendering Rule:
Min Scale: 0
Max Scale: 0
Copyright Text:
Service Data Type: esriImageServiceDataTypeRGB
Min Values: 1, 1, 1
Max Values: 255, 255, 255
Mean Values: 178.045720624034, 158.65858485709438, 141.59848542521516
Standard Deviation Values: 31.473489360394325, 28.076158016222802, 24.707205005277135
Object ID Field:
Fields:
None
Default Mosaic Method: Center
Allowed Mosaic Methods:
SortField:
SortValue: null
Mosaic Operator: First
Default Compression Quality: 75
Default Resampling Method: Bilinear
Max Record Count: null
Max Image Height: 4100
Max Image Width: 15000
Max Download Image Count: null
Max Mosaic Image Count: null
Allow Raster Function: true
Allow Copy: true
Allow Analysis: true
Allow Compute TiePoints: false
Supports Statistics: false
Supports Advanced Queries: false
Use StandardizedQueries: true
Raster Type Infos:
Name: Raster Dataset
Description: Supports all ArcGIS Raster Datasets
Help:
Has Raster Attribute Table: false
Edit Fields Info: null
Ownership Based AccessControl For Rasters: null
Child Resources:
Info
Histograms
Statistics
Key Properties
Legend
Raster Function Infos
Supported Operations:
Export Image
Identify
Compute Histograms
Compute Statistics Histograms
Get Samples
Compute Class Statistics
Query Boundary
Compute Pixel Location
Compute Angles
Validate
Project