View In:
ArcGIS JavaScript
ArcGIS Online Map Viewer
ArcGIS Earth
Service Description: Hosted/20220415_MLI_0m35_WV03_VNIR_Doucombo
Name: Hosted/20220415_MLI_0m35_WV03_VNIR_Doucombo
Description:
Single Fused Map Cache: true
Tile Info:
- Height: 256
- Width: 256
- DPI: 96
-
Levels of Detail: 6
-
Level ID: 0
[ Start Tile, End Tile ]
- Resolution: 11.375893911420633
- Scale: 42995.41855609251
-
Level ID: 1
[ Start Tile, End Tile ]
- Resolution: 5.687946955710316
- Scale: 21497.709278046255
-
Level ID: 2
[ Start Tile, End Tile ]
- Resolution: 2.843973477855158
- Scale: 10748.854639023128
-
Level ID: 3
[ Start Tile, End Tile ]
- Resolution: 1.421986738927579
- Scale: 5374.427319511564
-
Level ID: 4
[ Start Tile, End Tile ]
- Resolution: 0.7109933694637895
- Scale: 2687.213659755782
-
Level ID: 5
[ Start Tile, End Tile ]
- Resolution: 0.3554966847318948
- Scale: 1343.606829877891
- Format: LERC2D
- Compression Quality: 100000.0
- LERC Error: 0.1
- Origin: X: -409069.5782065675
Y: 1615936.1870675643
- Spatial Reference: 102100
(3857)
LatestVCSWkid(0)
Storage Info:
- Storage Format: esriMapCacheStorageModeCompactV2
- Packet Size: 16
Extent:
XMin: -409069.5782065675
YMin: 1614187.4988753682
XMax: -405247.6333490149
YMax: 1615936.1870675643
Spatial Reference: 102100
(3857)
LatestVCSWkid(0)
Initial Extent:
XMin: -409069.5782065675
YMin: 1614187.4988753682
XMax: -405247.6333490149
YMax: 1615936.1870675643
Spatial Reference: 102100
(3857)
LatestVCSWkid(0)
Full Extent:
XMin: -409069.5782065675
YMin: 1614187.4988753682
XMax: -405247.6333490149
YMax: 1615936.1870675643
Spatial Reference: 102100
(3857)
LatestVCSWkid(0)
Pixel Size X: 0.3554966847318937
Pixel Size Y: 0.3554966847318948
Band Count: 3
Pixel Type: U8
RasterFunction Infos: {"rasterFunctionInfos": [{
"name": "None",
"description": "",
"help": ""
}]}
Mensuration Capabilities: Basic
Inspection Capabilities:
Has Histograms: true
Has Colormap: false
Has Multi Dimensions : false
Rendering Rule:
Min Scale: 0
Max Scale: 0
Copyright Text:
Service Data Type: esriImageServiceDataTypeRGB
Min Values: 1, 1, 1
Max Values: 255, 255, 255
Mean Values: 164.31486632848225, 145.53244331584503, 117.5417826591051
Standard Deviation Values: 43.720374784135316, 31.589738099618597, 28.168761715213222
Object ID Field:
Fields:
None
Default Mosaic Method: Center
Allowed Mosaic Methods:
SortField:
SortValue: null
Mosaic Operator: First
Default Compression Quality: 75
Default Resampling Method: Bilinear
Max Record Count: null
Max Image Height: 4100
Max Image Width: 15000
Max Download Image Count: null
Max Mosaic Image Count: null
Allow Raster Function: true
Allow Copy: true
Allow Analysis: true
Allow Compute TiePoints: false
Supports Statistics: false
Supports Advanced Queries: false
Use StandardizedQueries: true
Raster Type Infos:
Name: Raster Dataset
Description: Supports all ArcGIS Raster Datasets
Help:
Has Raster Attribute Table: false
Edit Fields Info: null
Ownership Based AccessControl For Rasters: null
Child Resources:
Info
Histograms
Statistics
Key Properties
Legend
Raster Function Infos
Supported Operations:
Export Image
Identify
Compute Histograms
Compute Statistics Histograms
Get Samples
Compute Class Statistics
Query Boundary
Compute Pixel Location
Compute Angles
Validate
Project