View In:
ArcGIS JavaScript
ArcGIS Online Map Viewer
ArcGIS Earth
Service Description: Hosted/20220415_MLI_0m50_WV02_Dourou
Name: Hosted/20220415_MLI_0m50_WV02_Dourou
Description:
Single Fused Map Cache: true
Tile Info:
- Height: 256
- Width: 256
- DPI: 96
-
Levels of Detail: 9
-
Level ID: 0
[ Start Tile, End Tile ]
- Resolution: 128.24005335707872
- Scale: 484685.84646414616
-
Level ID: 1
[ Start Tile, End Tile ]
- Resolution: 64.12002667853936
- Scale: 242342.92323207308
-
Level ID: 2
[ Start Tile, End Tile ]
- Resolution: 32.06001333926968
- Scale: 121171.46161603654
-
Level ID: 3
[ Start Tile, End Tile ]
- Resolution: 16.03000666963484
- Scale: 60585.73080801827
-
Level ID: 4
[ Start Tile, End Tile ]
- Resolution: 8.01500333481742
- Scale: 30292.865404009135
-
Level ID: 5
[ Start Tile, End Tile ]
- Resolution: 4.00750166740871
- Scale: 15146.432702004568
-
Level ID: 6
[ Start Tile, End Tile ]
- Resolution: 2.003750833704355
- Scale: 7573.216351002284
-
Level ID: 7
[ Start Tile, End Tile ]
- Resolution: 1.0018754168521775
- Scale: 3786.608175501142
-
Level ID: 8
[ Start Tile, End Tile ]
- Resolution: 0.5009377084260888
- Scale: 1893.304087750571
- Format: LERC2D
- Compression Quality: 100000.0
- LERC Error: 0.1
- Origin: X: -400076.9065999985
Y: 1694572.8222999999
- Spatial Reference: 102100
(3857)
LatestVCSWkid(0)
Storage Info:
- Storage Format: esriMapCacheStorageModeCompactV2
- Packet Size: 16
Extent:
XMin: -400076.9065999985
YMin: 1569913.9726204593
XMax: -378905.27529107826
YMax: 1694572.8222999999
Spatial Reference: 102100
(3857)
LatestVCSWkid(0)
Initial Extent:
XMin: -400076.9065999985
YMin: 1569913.9726204593
XMax: -378905.27529107826
YMax: 1694572.8222999999
Spatial Reference: 102100
(3857)
LatestVCSWkid(0)
Full Extent:
XMin: -400076.9065999985
YMin: 1569913.9726204593
XMax: -378905.27529107826
YMax: 1694572.8222999999
Spatial Reference: 102100
(3857)
LatestVCSWkid(0)
Pixel Size X: 0.5009377084260888
Pixel Size Y: 0.5009377084260888
Band Count: 1
Pixel Type: U8
RasterFunction Infos: {"rasterFunctionInfos": [{
"name": "None",
"description": "",
"help": ""
}]}
Mensuration Capabilities: Basic
Inspection Capabilities:
Has Histograms: true
Has Colormap: false
Has Multi Dimensions : false
Rendering Rule:
Min Scale: 0
Max Scale: 0
Copyright Text:
Service Data Type: esriImageServiceDataTypeGeneric
Min Values: 1
Max Values: 255
Mean Values: 182.61668035999642
Standard Deviation Values: 38.17356109662239
Object ID Field:
Fields:
None
Default Mosaic Method: Center
Allowed Mosaic Methods:
SortField:
SortValue: null
Mosaic Operator: First
Default Compression Quality: 75
Default Resampling Method: Bilinear
Max Record Count: null
Max Image Height: 4100
Max Image Width: 15000
Max Download Image Count: null
Max Mosaic Image Count: null
Allow Raster Function: true
Allow Copy: true
Allow Analysis: true
Allow Compute TiePoints: false
Supports Statistics: false
Supports Advanced Queries: false
Use StandardizedQueries: true
Raster Type Infos:
Name: Raster Dataset
Description: Supports all ArcGIS Raster Datasets
Help:
Has Raster Attribute Table: false
Edit Fields Info: null
Ownership Based AccessControl For Rasters: null
Child Resources:
Info
Histograms
Statistics
Key Properties
Legend
Raster Function Infos
Supported Operations:
Export Image
Identify
Compute Histograms
Compute Statistics Histograms
Get Samples
Compute Class Statistics
Query Boundary
Compute Pixel Location
Compute Angles
Validate
Project