View In:
ArcGIS JavaScript
ArcGIS Online Map Viewer
ArcGIS Earth
Service Description: Hosted/20220502_BFA_0m50_WV02_Goulgountou
Name: Hosted/20220502_BFA_0m50_WV02_Goulgountou
Description:
Single Fused Map Cache: true
Tile Info:
- Height: 256
- Width: 256
- DPI: 96
-
Levels of Detail: 9
-
Level ID: 0
[ Start Tile, End Tile ]
- Resolution: 128.2400533570686
- Scale: 484685.8464641079
-
Level ID: 1
[ Start Tile, End Tile ]
- Resolution: 64.1200266785343
- Scale: 242342.92323205396
-
Level ID: 2
[ Start Tile, End Tile ]
- Resolution: 32.06001333926715
- Scale: 121171.46161602698
-
Level ID: 3
[ Start Tile, End Tile ]
- Resolution: 16.030006669633575
- Scale: 60585.73080801349
-
Level ID: 4
[ Start Tile, End Tile ]
- Resolution: 8.015003334816788
- Scale: 30292.865404006745
-
Level ID: 5
[ Start Tile, End Tile ]
- Resolution: 4.007501667408394
- Scale: 15146.432702003372
-
Level ID: 6
[ Start Tile, End Tile ]
- Resolution: 2.003750833704197
- Scale: 7573.216351001686
-
Level ID: 7
[ Start Tile, End Tile ]
- Resolution: 1.0018754168520985
- Scale: 3786.608175500843
-
Level ID: 8
[ Start Tile, End Tile ]
- Resolution: 0.5009377084260492
- Scale: 1893.3040877504216
- Format: LERC2D
- Compression Quality: 100000.0
- LERC Error: 0.1
- Origin: X: 392.7351999990642
Y: 1619680.8468999988
- Spatial Reference: 102100
(3857)
LatestVCSWkid(0)
Storage Info:
- Storage Format: esriMapCacheStorageModeCompactV2
- Packet Size: 16
Extent:
XMin: 392.7351999990642
YMin: 1602110.4567769552
XMax: 19046.15264865986
YMax: 1619680.8468999988
Spatial Reference: 102100
(3857)
LatestVCSWkid(0)
Initial Extent:
XMin: 392.7351999990642
YMin: 1602110.4567769552
XMax: 19046.15264865986
YMax: 1619680.8468999988
Spatial Reference: 102100
(3857)
LatestVCSWkid(0)
Full Extent:
XMin: 392.7351999990642
YMin: 1602110.4567769552
XMax: 19046.15264865986
YMax: 1619680.8468999988
Spatial Reference: 102100
(3857)
LatestVCSWkid(0)
Pixel Size X: 0.5009377084260492
Pixel Size Y: 0.5009377084260492
Band Count: 3
Pixel Type: U8
RasterFunction Infos: {"rasterFunctionInfos": [{
"name": "None",
"description": "",
"help": ""
}]}
Mensuration Capabilities: Basic
Inspection Capabilities:
Has Histograms: true
Has Colormap: false
Has Multi Dimensions : false
Rendering Rule:
Min Scale: 0
Max Scale: 0
Copyright Text:
Service Data Type: esriImageServiceDataTypeRGB
Min Values: 1, 1, 1
Max Values: 255, 255, 255
Mean Values: 152.26190789923982, 121.21449891665868, 103.58234428735084
Standard Deviation Values: 19.794975134373217, 15.885974196309684, 15.187020599171902
Object ID Field:
Fields:
None
Default Mosaic Method: Center
Allowed Mosaic Methods:
SortField:
SortValue: null
Mosaic Operator: First
Default Compression Quality: 75
Default Resampling Method: Bilinear
Max Record Count: null
Max Image Height: 4100
Max Image Width: 15000
Max Download Image Count: null
Max Mosaic Image Count: null
Allow Raster Function: true
Allow Copy: true
Allow Analysis: true
Allow Compute TiePoints: false
Supports Statistics: false
Supports Advanced Queries: false
Use StandardizedQueries: true
Raster Type Infos:
Name: Raster Dataset
Description: Supports all ArcGIS Raster Datasets
Help:
Has Raster Attribute Table: false
Edit Fields Info: null
Ownership Based AccessControl For Rasters: null
Child Resources:
Info
Histograms
Statistics
Key Properties
Legend
Raster Function Infos
Supported Operations:
Export Image
Identify
Compute Histograms
Compute Statistics Histograms
Get Samples
Compute Class Statistics
Query Boundary
Compute Pixel Location
Compute Angles
Validate
Project