View In:
ArcGIS JavaScript
ArcGIS Online Map Viewer
ArcGIS Earth
Service Description: Hosted/20221027_NER_0m31_WV03_VNIR_Bosso_Clip
Name: Hosted/20221027_NER_0m31_WV03_VNIR_Bosso_Clip
Description:
Single Fused Map Cache: true
Tile Info:
- Height: 256
- Width: 256
- DPI: 96
-
Levels of Detail: 8
-
Level ID: 0
[ Start Tile, End Tile ]
- Resolution: 42.25114448640564
- Scale: 159689.04560925983
-
Level ID: 1
[ Start Tile, End Tile ]
- Resolution: 21.12557224320282
- Scale: 79844.52280462992
-
Level ID: 2
[ Start Tile, End Tile ]
- Resolution: 10.56278612160141
- Scale: 39922.26140231496
-
Level ID: 3
[ Start Tile, End Tile ]
- Resolution: 5.281393060800705
- Scale: 19961.13070115748
-
Level ID: 4
[ Start Tile, End Tile ]
- Resolution: 2.6406965304003527
- Scale: 9980.56535057874
-
Level ID: 5
[ Start Tile, End Tile ]
- Resolution: 1.3203482652001763
- Scale: 4990.28267528937
-
Level ID: 6
[ Start Tile, End Tile ]
- Resolution: 0.6601741326000882
- Scale: 2495.141337644685
-
Level ID: 7
[ Start Tile, End Tile ]
- Resolution: 0.3300870663000441
- Scale: 1247.5706688223424
- Format: LERC2D
- Compression Quality: 100000.0
- LERC Error: 0.1
- Origin: X: 1457928.5544000007
Y: 1564006.8407000003
- Spatial Reference: 102100
(3857)
LatestVCSWkid(0)
Storage Info:
- Storage Format: esriMapCacheStorageModeCompactV2
- Packet Size: 16
Extent:
XMin: 1457928.5544000007
YMin: 1557012.6258521688
XMax: 1472067.1737108305
YMax: 1564006.8407000003
Spatial Reference: 102100
(3857)
LatestVCSWkid(0)
Initial Extent:
XMin: 1457928.5544000007
YMin: 1557012.6258521688
XMax: 1472067.1737108305
YMax: 1564006.8407000003
Spatial Reference: 102100
(3857)
LatestVCSWkid(0)
Full Extent:
XMin: 1457928.5544000007
YMin: 1557012.6258521688
XMax: 1472067.1737108305
YMax: 1564006.8407000003
Spatial Reference: 102100
(3857)
LatestVCSWkid(0)
Pixel Size X: 0.3300870663000441
Pixel Size Y: 0.33008706630003876
Band Count: 3
Pixel Type: U8
RasterFunction Infos: {"rasterFunctionInfos": [{
"name": "None",
"description": "",
"help": ""
}]}
Mensuration Capabilities: Basic
Inspection Capabilities:
Has Histograms: true
Has Colormap: false
Has Multi Dimensions : false
Rendering Rule:
Min Scale: 0
Max Scale: 0
Copyright Text:
Service Data Type: esriImageServiceDataTypeRGB
Min Values: 1, 1, 1
Max Values: 255, 255, 255
Mean Values: 158.99121649465778, 143.55700430842046, 126.81955507457418
Standard Deviation Values: 26.000809723117353, 25.724468651455528, 23.945016667826376
Object ID Field:
Fields:
None
Default Mosaic Method: Center
Allowed Mosaic Methods:
SortField:
SortValue: null
Mosaic Operator: First
Default Compression Quality: 75
Default Resampling Method: Bilinear
Max Record Count: null
Max Image Height: 4100
Max Image Width: 15000
Max Download Image Count: null
Max Mosaic Image Count: null
Allow Raster Function: true
Allow Copy: true
Allow Analysis: true
Allow Compute TiePoints: false
Supports Statistics: false
Supports Advanced Queries: false
Use StandardizedQueries: true
Raster Type Infos:
Name: Raster Dataset
Description: Supports all ArcGIS Raster Datasets
Help:
Has Raster Attribute Table: false
Edit Fields Info: null
Ownership Based AccessControl For Rasters: null
Child Resources:
Info
Histograms
Statistics
Key Properties
Legend
Raster Function Infos
Supported Operations:
Export Image
Identify
Compute Histograms
Compute Statistics Histograms
Get Samples
Compute Class Statistics
Query Boundary
Compute Pixel Location
Compute Angles
Validate
Project