View In:
ArcGIS JavaScript
ArcGIS Online Map Viewer
ArcGIS Earth
Service Description: Hosted/20230127_NER_0m47_WV02_Chtimari_Clip
Name: Hosted/20230127_NER_0m47_WV02_Chtimari_Clip
Description:
Single Fused Map Cache: true
Tile Info:
- Height: 256
- Width: 256
- DPI: 96
-
Levels of Detail: 7
-
Level ID: 0
[ Start Tile, End Tile ]
- Resolution: 30.746966611145098
- Scale: 116208.77524615511
-
Level ID: 1
[ Start Tile, End Tile ]
- Resolution: 15.373483305572549
- Scale: 58104.38762307756
-
Level ID: 2
[ Start Tile, End Tile ]
- Resolution: 7.686741652786274
- Scale: 29052.19381153878
-
Level ID: 3
[ Start Tile, End Tile ]
- Resolution: 3.843370826393137
- Scale: 14526.09690576939
-
Level ID: 4
[ Start Tile, End Tile ]
- Resolution: 1.9216854131965686
- Scale: 7263.048452884695
-
Level ID: 5
[ Start Tile, End Tile ]
- Resolution: 0.9608427065982843
- Scale: 3631.5242264423473
-
Level ID: 6
[ Start Tile, End Tile ]
- Resolution: 0.48042135329914215
- Scale: 1815.7621132211736
- Format: LERC2D
- Compression Quality: 100000.0
- LERC Error: 0.1
- Origin: X: 1375703.8403000012
Y: 1484387.7545999992
- Spatial Reference: 102100
(3857)
LatestVCSWkid(0)
Storage Info:
- Storage Format: esriMapCacheStorageModeCompactV2
- Packet Size: 16
Extent:
XMin: 1375703.8403000012
YMin: 1477393.7805386703
XMax: 1390408.5770817813
YMax: 1484387.7545999992
Spatial Reference: 102100
(3857)
LatestVCSWkid(0)
Initial Extent:
XMin: 1375703.8403000012
YMin: 1477393.7805386703
XMax: 1390408.5770817813
YMax: 1484387.7545999992
Spatial Reference: 102100
(3857)
LatestVCSWkid(0)
Full Extent:
XMin: 1375703.8403000012
YMin: 1477393.7805386703
XMax: 1390408.5770817813
YMax: 1484387.7545999992
Spatial Reference: 102100
(3857)
LatestVCSWkid(0)
Pixel Size X: 0.48042135329914215
Pixel Size Y: 0.4804213532991426
Band Count: 3
Pixel Type: U8
RasterFunction Infos: {"rasterFunctionInfos": [{
"name": "None",
"description": "",
"help": ""
}]}
Mensuration Capabilities: Basic
Inspection Capabilities:
Has Histograms: true
Has Colormap: false
Has Multi Dimensions : false
Rendering Rule:
Min Scale: 0
Max Scale: 0
Copyright Text:
Service Data Type: esriImageServiceDataTypeRGB
Min Values: 1, 1, 1
Max Values: 255, 255, 255
Mean Values: 182.13055053756088, 164.70381987007676, 133.8443075512484
Standard Deviation Values: 38.0814090948511, 32.272231363033136, 26.70836371975425
Object ID Field:
Fields:
None
Default Mosaic Method: Center
Allowed Mosaic Methods:
SortField:
SortValue: null
Mosaic Operator: First
Default Compression Quality: 75
Default Resampling Method: Bilinear
Max Record Count: null
Max Image Height: 4100
Max Image Width: 15000
Max Download Image Count: null
Max Mosaic Image Count: null
Allow Raster Function: true
Allow Copy: true
Allow Analysis: true
Allow Compute TiePoints: false
Supports Statistics: false
Supports Advanced Queries: false
Use StandardizedQueries: true
Raster Type Infos:
Name: Raster Dataset
Description: Supports all ArcGIS Raster Datasets
Help:
Has Raster Attribute Table: false
Edit Fields Info: null
Ownership Based AccessControl For Rasters: null
Child Resources:
Info
Histograms
Statistics
Key Properties
Legend
Raster Function Infos
Supported Operations:
Export Image
Identify
Compute Histograms
Compute Statistics Histograms
Get Samples
Compute Class Statistics
Query Boundary
Compute Pixel Location
Compute Angles
Validate
Project