View In:
ArcGIS JavaScript
ArcGIS Online Map Viewer
ArcGIS Earth
Service Description: Hosted/20230305_BFA_0m47_WV02_Orou_daka
Name: Hosted/20230305_BFA_0m47_WV02_Orou_daka
Description:
Single Fused Map Cache: true
Tile Info:
- Height: 256
- Width: 256
- DPI: 96
-
Levels of Detail: 9
-
Level ID: 0
[ Start Tile, End Tile ]
- Resolution: 119.91551065227956
- Scale: 453223.07082050364
-
Level ID: 1
[ Start Tile, End Tile ]
- Resolution: 59.95775532613978
- Scale: 226611.53541025182
-
Level ID: 2
[ Start Tile, End Tile ]
- Resolution: 29.97887766306989
- Scale: 113305.76770512591
-
Level ID: 3
[ Start Tile, End Tile ]
- Resolution: 14.989438831534946
- Scale: 56652.883852562954
-
Level ID: 4
[ Start Tile, End Tile ]
- Resolution: 7.494719415767473
- Scale: 28326.441926281477
-
Level ID: 5
[ Start Tile, End Tile ]
- Resolution: 3.7473597078837364
- Scale: 14163.220963140739
-
Level ID: 6
[ Start Tile, End Tile ]
- Resolution: 1.8736798539418682
- Scale: 7081.610481570369
-
Level ID: 7
[ Start Tile, End Tile ]
- Resolution: 0.9368399269709341
- Scale: 3540.8052407851847
-
Level ID: 8
[ Start Tile, End Tile ]
- Resolution: 0.46841996348546705
- Scale: 1770.4026203925923
- Format: LERC2D
- Compression Quality: 100000.0
- LERC Error: 0.1
- Origin: X: 28107.071499999613
Y: 1582979.303599999
- Spatial Reference: 102100
(3857)
LatestVCSWkid(0)
Storage Info:
- Storage Format: esriMapCacheStorageModeCompactV2
- Packet Size: 16
Extent:
XMin: 28107.071499999613
YMin: 1419090.8688755212
XMax: 45420.34177038596
YMax: 1582979.303599999
Spatial Reference: 102100
(3857)
LatestVCSWkid(0)
Initial Extent:
XMin: 28107.071499999613
YMin: 1419090.8688755212
XMax: 45420.34177038596
YMax: 1582979.303599999
Spatial Reference: 102100
(3857)
LatestVCSWkid(0)
Full Extent:
XMin: 28107.071499999613
YMin: 1419090.8688755212
XMax: 45420.34177038596
YMax: 1582979.303599999
Spatial Reference: 102100
(3857)
LatestVCSWkid(0)
Pixel Size X: 0.46841996348546705
Pixel Size Y: 0.46841996348546716
Band Count: 3
Pixel Type: U8
RasterFunction Infos: {"rasterFunctionInfos": [{
"name": "None",
"description": "",
"help": ""
}]}
Mensuration Capabilities: Basic
Inspection Capabilities:
Has Histograms: true
Has Colormap: false
Has Multi Dimensions : false
Rendering Rule:
Min Scale: 0
Max Scale: 0
Copyright Text:
Service Data Type: esriImageServiceDataTypeRGB
Min Values: 0, 0, 0
Max Values: 255, 255, 255
Mean Values: 188.31173241662233, 159.6889742568082, 133.6509883851015
Standard Deviation Values: 38.97650277426813, 34.46122157479384, 28.15024353326015
Object ID Field:
Fields:
None
Default Mosaic Method: Center
Allowed Mosaic Methods:
SortField:
SortValue: null
Mosaic Operator: First
Default Compression Quality: 75
Default Resampling Method: Bilinear
Max Record Count: null
Max Image Height: 4100
Max Image Width: 15000
Max Download Image Count: null
Max Mosaic Image Count: null
Allow Raster Function: true
Allow Copy: true
Allow Analysis: true
Allow Compute TiePoints: false
Supports Statistics: false
Supports Advanced Queries: false
Use StandardizedQueries: true
Raster Type Infos:
Name: Raster Dataset
Description: Supports all ArcGIS Raster Datasets
Help:
Has Raster Attribute Table: false
Edit Fields Info: null
Ownership Based AccessControl For Rasters: null
Child Resources:
Info
Histograms
Statistics
Key Properties
Legend
Raster Function Infos
Supported Operations:
Export Image
Identify
Compute Histograms
Compute Statistics Histograms
Get Samples
Compute Class Statistics
Query Boundary
Compute Pixel Location
Compute Angles
Validate
Project