View In:
ArcGIS JavaScript
ArcGIS Online Map Viewer
ArcGIS Earth
Service Description: Hosted/20230519_UNDP_0m49_WV02_Nagla_Nigeria
Name: Hosted/20230519_UNDP_0m49_WV02_Nagla_Nigeria
Description:
Single Fused Map Cache: true
Tile Info:
- Height: 256
- Width: 256
- DPI: 96
-
Levels of Detail: 9
-
Level ID: 0
[ Start Tile, End Tile ]
- Resolution: 126.97975966684011
- Scale: 479922.5412560155
-
Level ID: 1
[ Start Tile, End Tile ]
- Resolution: 63.489879833420055
- Scale: 239961.27062800774
-
Level ID: 2
[ Start Tile, End Tile ]
- Resolution: 31.744939916710027
- Scale: 119980.63531400387
-
Level ID: 3
[ Start Tile, End Tile ]
- Resolution: 15.872469958355014
- Scale: 59990.317657001935
-
Level ID: 4
[ Start Tile, End Tile ]
- Resolution: 7.936234979177507
- Scale: 29995.158828500968
-
Level ID: 5
[ Start Tile, End Tile ]
- Resolution: 3.9681174895887534
- Scale: 14997.579414250484
-
Level ID: 6
[ Start Tile, End Tile ]
- Resolution: 1.9840587447943767
- Scale: 7498.789707125242
-
Level ID: 7
[ Start Tile, End Tile ]
- Resolution: 0.9920293723971884
- Scale: 3749.394853562621
-
Level ID: 8
[ Start Tile, End Tile ]
- Resolution: 0.4960146861985942
- Scale: 1874.6974267813105
- Format: LERC2D
- Compression Quality: 100000.0
- LERC Error: 0.1
- Origin: X: 1569613.1777999997
Y: 1403636.2814000016
- Spatial Reference: 102100
(3857)
LatestVCSWkid(0)
Storage Info:
- Storage Format: esriMapCacheStorageModeCompactV2
- Packet Size: 16
Extent:
XMin: 1569613.1777999997
YMin: 1367296.2614303478
XMax: 1587597.182277502
YMax: 1403636.2814000016
Spatial Reference: 102100
(3857)
LatestVCSWkid(0)
Initial Extent:
XMin: 1569613.1777999997
YMin: 1367296.2614303478
XMax: 1587597.182277502
YMax: 1403636.2814000016
Spatial Reference: 102100
(3857)
LatestVCSWkid(0)
Full Extent:
XMin: 1569613.1777999997
YMin: 1367296.2614303478
XMax: 1587597.182277502
YMax: 1403636.2814000016
Spatial Reference: 102100
(3857)
LatestVCSWkid(0)
Pixel Size X: 0.49601468619859096
Pixel Size Y: 0.4960146861985942
Band Count: 3
Pixel Type: U8
RasterFunction Infos: {"rasterFunctionInfos": [{
"name": "None",
"description": "",
"help": ""
}]}
Mensuration Capabilities: Basic
Inspection Capabilities:
Has Histograms: true
Has Colormap: false
Has Multi Dimensions : false
Rendering Rule:
Min Scale: 0
Max Scale: 0
Copyright Text:
Service Data Type: esriImageServiceDataTypeRGB
Min Values: 1, 1, 1
Max Values: 255, 255, 255
Mean Values: 163.86572371280468, 146.956862242602, 141.11805352106532
Standard Deviation Values: 29.12078417789838, 28.38965905218261, 25.40658307037818
Object ID Field:
Fields:
None
Default Mosaic Method: Center
Allowed Mosaic Methods:
SortField:
SortValue: null
Mosaic Operator: First
Default Compression Quality: 75
Default Resampling Method: Bilinear
Max Record Count: null
Max Image Height: 4100
Max Image Width: 15000
Max Download Image Count: null
Max Mosaic Image Count: null
Allow Raster Function: true
Allow Copy: true
Allow Analysis: true
Allow Compute TiePoints: false
Supports Statistics: false
Supports Advanced Queries: false
Use StandardizedQueries: true
Raster Type Infos:
Name: Raster Dataset
Description: Supports all ArcGIS Raster Datasets
Help:
Has Raster Attribute Table: false
Edit Fields Info: null
Ownership Based AccessControl For Rasters: null
Child Resources:
Info
Histograms
Statistics
Key Properties
Legend
Raster Function Infos
Supported Operations:
Export Image
Identify
Compute Histograms
Compute Statistics Histograms
Get Samples
Compute Class Statistics
Query Boundary
Compute Pixel Location
Compute Angles
Validate
Project