View In:
ArcGIS JavaScript
ArcGIS Online Map Viewer
ArcGIS Earth
Service Description: Hosted/20230629_MLI_0m32_WV03_VNIR_PignariB
Name: Hosted/20230629_MLI_0m32_WV03_VNIR_PignariB
Description:
Single Fused Map Cache: true
Tile Info:
- Height: 256
- Width: 256
- DPI: 96
-
Levels of Detail: 7
-
Level ID: 0
[ Start Tile, End Tile ]
- Resolution: 20.615072256262064
- Scale: 77915.07789398759
-
Level ID: 1
[ Start Tile, End Tile ]
- Resolution: 10.307536128131032
- Scale: 38957.538946993795
-
Level ID: 2
[ Start Tile, End Tile ]
- Resolution: 5.153768064065516
- Scale: 19478.769473496897
-
Level ID: 3
[ Start Tile, End Tile ]
- Resolution: 2.576884032032758
- Scale: 9739.384736748449
-
Level ID: 4
[ Start Tile, End Tile ]
- Resolution: 1.288442016016379
- Scale: 4869.692368374224
-
Level ID: 5
[ Start Tile, End Tile ]
- Resolution: 0.6442210080081895
- Scale: 2434.846184187112
-
Level ID: 6
[ Start Tile, End Tile ]
- Resolution: 0.32211050400409474
- Scale: 1217.423092093556
- Format: LERC2D
- Compression Quality: 100000.0
- LERC Error: 0.1
- Origin: X: -443282.3555999994
Y: 1632761.8908000013
- Spatial Reference: 102100
(3857)
LatestVCSWkid(0)
Storage Info:
- Storage Format: esriMapCacheStorageModeCompactV2
- Packet Size: 16
Extent:
XMin: -443282.3555999994
YMin: 1629264.7370580288
XMax: -435638.35122947826
YMax: 1632761.8908000013
Spatial Reference: 102100
(3857)
LatestVCSWkid(0)
Initial Extent:
XMin: -443282.3555999994
YMin: 1629264.7370580288
XMax: -435638.35122947826
YMax: 1632761.8908000013
Spatial Reference: 102100
(3857)
LatestVCSWkid(0)
Full Extent:
XMin: -443282.3555999994
YMin: 1629264.7370580288
XMax: -435638.35122947826
YMax: 1632761.8908000013
Spatial Reference: 102100
(3857)
LatestVCSWkid(0)
Pixel Size X: 0.32211050400409474
Pixel Size Y: 0.3221105040041007
Band Count: 3
Pixel Type: U8
RasterFunction Infos: {"rasterFunctionInfos": [{
"name": "None",
"description": "",
"help": ""
}]}
Mensuration Capabilities: Basic
Inspection Capabilities:
Has Histograms: true
Has Colormap: false
Has Multi Dimensions : false
Rendering Rule:
Min Scale: 0
Max Scale: 0
Copyright Text:
Service Data Type: esriImageServiceDataTypeRGB
Min Values: 1, 1, 1
Max Values: 255, 255, 255
Mean Values: 187.49835611230753, 153.19884750894897, 124.50190033500307
Standard Deviation Values: 43.23251910286763, 35.828458317240674, 26.566481717361537
Object ID Field:
Fields:
None
Default Mosaic Method: Center
Allowed Mosaic Methods:
SortField:
SortValue: null
Mosaic Operator: First
Default Compression Quality: 75
Default Resampling Method: Bilinear
Max Record Count: null
Max Image Height: 4100
Max Image Width: 15000
Max Download Image Count: null
Max Mosaic Image Count: null
Allow Raster Function: true
Allow Copy: true
Allow Analysis: true
Allow Compute TiePoints: false
Supports Statistics: false
Supports Advanced Queries: false
Use StandardizedQueries: true
Raster Type Infos:
Name: Raster Dataset
Description: Supports all ArcGIS Raster Datasets
Help:
Has Raster Attribute Table: false
Edit Fields Info: null
Ownership Based AccessControl For Rasters: null
Child Resources:
Info
Histograms
Statistics
Key Properties
Legend
Raster Function Infos
Supported Operations:
Export Image
Identify
Compute Histograms
Compute Statistics Histograms
Get Samples
Compute Class Statistics
Query Boundary
Compute Pixel Location
Compute Angles
Validate
Project