View In:
ArcGIS JavaScript
ArcGIS Online Map Viewer
ArcGIS Earth
Service Description: Hosted/20230831_NER_0m50_WV02_Kablewa_Clip
Name: Hosted/20230831_NER_0m50_WV02_Kablewa_Clip
Description:
Single Fused Map Cache: true
Tile Info:
- Height: 256
- Width: 256
- DPI: 96
-
Levels of Detail: 7
-
Level ID: 0
[ Start Tile, End Tile ]
- Resolution: 32.060013350599874
- Scale: 121171.46165885923
-
Level ID: 1
[ Start Tile, End Tile ]
- Resolution: 16.030006675299937
- Scale: 60585.730829429616
-
Level ID: 2
[ Start Tile, End Tile ]
- Resolution: 8.015003337649969
- Scale: 30292.865414714808
-
Level ID: 3
[ Start Tile, End Tile ]
- Resolution: 4.007501668824984
- Scale: 15146.432707357404
-
Level ID: 4
[ Start Tile, End Tile ]
- Resolution: 2.003750834412492
- Scale: 7573.216353678702
-
Level ID: 5
[ Start Tile, End Tile ]
- Resolution: 1.001875417206246
- Scale: 3786.608176839351
-
Level ID: 6
[ Start Tile, End Tile ]
- Resolution: 0.500937708603123
- Scale: 1893.3040884196755
- Format: LERC2D
- Compression Quality: 100000.0
- LERC Error: 0.1
- Origin: X: 1436593.1680999994
Y: 1573644.4663000014
- Spatial Reference: 102100
(3857)
LatestVCSWkid(0)
Storage Info:
- Storage Format: esriMapCacheStorageModeCompactV2
- Packet Size: 16
Extent:
XMin: 1436593.1680999994
YMin: 1567111.737642108
XMax: 1451778.092860886
YMax: 1573644.4663000014
Spatial Reference: 102100
(3857)
LatestVCSWkid(0)
Initial Extent:
XMin: 1436593.1680999994
YMin: 1567111.737642108
XMax: 1451778.092860886
YMax: 1573644.4663000014
Spatial Reference: 102100
(3857)
LatestVCSWkid(0)
Full Extent:
XMin: 1436593.1680999994
YMin: 1567111.737642108
XMax: 1451778.092860886
YMax: 1573644.4663000014
Spatial Reference: 102100
(3857)
LatestVCSWkid(0)
Pixel Size X: 0.500937708603123
Pixel Size Y: 0.5009377086031264
Band Count: 3
Pixel Type: U8
RasterFunction Infos: {"rasterFunctionInfos": [{
"name": "None",
"description": "",
"help": ""
}]}
Mensuration Capabilities: Basic
Inspection Capabilities:
Has Histograms: true
Has Colormap: false
Has Multi Dimensions : false
Rendering Rule:
Min Scale: 0
Max Scale: 0
Copyright Text:
Service Data Type: esriImageServiceDataTypeRGB
Min Values: 1, 1, 1
Max Values: 255, 255, 255
Mean Values: 200.24592140722916, 188.93193046583295, 162.25669698505774
Standard Deviation Values: 36.76404600062453, 38.05613969684441, 31.823334202948544
Object ID Field:
Fields:
None
Default Mosaic Method: Center
Allowed Mosaic Methods:
SortField:
SortValue: null
Mosaic Operator: First
Default Compression Quality: 75
Default Resampling Method: Bilinear
Max Record Count: null
Max Image Height: 4100
Max Image Width: 15000
Max Download Image Count: null
Max Mosaic Image Count: null
Allow Raster Function: true
Allow Copy: true
Allow Analysis: true
Allow Compute TiePoints: false
Supports Statistics: false
Supports Advanced Queries: false
Use StandardizedQueries: true
Raster Type Infos:
Name: Raster Dataset
Description: Supports all ArcGIS Raster Datasets
Help:
Has Raster Attribute Table: false
Edit Fields Info: null
Ownership Based AccessControl For Rasters: null
Child Resources:
Info
Histograms
Statistics
Key Properties
Legend
Raster Function Infos
Supported Operations:
Export Image
Identify
Compute Histograms
Compute Statistics Histograms
Get Samples
Compute Class Statistics
Query Boundary
Compute Pixel Location
Compute Angles
Validate
Project