View In:
ArcGIS JavaScript
ArcGIS Online Map Viewer
ArcGIS Earth
Service Description: Hosted/20230901_MLI_0m34_WV03_VNIR_Bandiagara
Name: Hosted/20230901_MLI_0m34_WV03_VNIR_Bandiagara
Description:
Single Fused Map Cache: true
Tile Info:
- Height: 256
- Width: 256
- DPI: 96
-
Levels of Detail: 8
-
Level ID: 0
[ Start Tile, End Tile ]
- Resolution: 43.01954681806009
- Scale: 162593.23758979447
-
Level ID: 1
[ Start Tile, End Tile ]
- Resolution: 21.509773409030046
- Scale: 81296.61879489724
-
Level ID: 2
[ Start Tile, End Tile ]
- Resolution: 10.754886704515023
- Scale: 40648.30939744862
-
Level ID: 3
[ Start Tile, End Tile ]
- Resolution: 5.377443352257512
- Scale: 20324.15469872431
-
Level ID: 4
[ Start Tile, End Tile ]
- Resolution: 2.688721676128756
- Scale: 10162.077349362155
-
Level ID: 5
[ Start Tile, End Tile ]
- Resolution: 1.344360838064378
- Scale: 5081.038674681077
-
Level ID: 6
[ Start Tile, End Tile ]
- Resolution: 0.672180419032189
- Scale: 2540.5193373405386
-
Level ID: 7
[ Start Tile, End Tile ]
- Resolution: 0.3360902095160945
- Scale: 1270.2596686702693
- Format: LERC2D
- Compression Quality: 100000.0
- LERC Error: 0.1
- Origin: X: -408305.24069999903
Y: 1618234.6956999998
- Spatial Reference: 102100
(3857)
LatestVCSWkid(0)
Storage Info:
- Storage Format: esriMapCacheStorageModeCompactV2
- Packet Size: 16
Extent:
XMin: -408305.24069999903
YMin: 1611349.551667853
XMax: -394328.92933727225
YMax: 1618234.6956999998
Spatial Reference: 102100
(3857)
LatestVCSWkid(0)
Initial Extent:
XMin: -408305.24069999903
YMin: 1611349.551667853
XMax: -394328.92933727225
YMax: 1618234.6956999998
Spatial Reference: 102100
(3857)
LatestVCSWkid(0)
Full Extent:
XMin: -408305.24069999903
YMin: 1611349.551667853
XMax: -394328.92933727225
YMax: 1618234.6956999998
Spatial Reference: 102100
(3857)
LatestVCSWkid(0)
Pixel Size X: 0.3360902095160945
Pixel Size Y: 0.3360902095160979
Band Count: 3
Pixel Type: U8
RasterFunction Infos: {"rasterFunctionInfos": [{
"name": "None",
"description": "",
"help": ""
}]}
Mensuration Capabilities: Basic
Inspection Capabilities:
Has Histograms: true
Has Colormap: false
Has Multi Dimensions : false
Rendering Rule:
Min Scale: 0
Max Scale: 0
Copyright Text:
Service Data Type: esriImageServiceDataTypeRGB
Min Values: 1, 1, 1
Max Values: 255, 255, 255
Mean Values: 112.41022480778399, 128.88259659230198, 107.96903712501391
Standard Deviation Values: 30.60708754740977, 25.415536101790835, 24.358959551157504
Object ID Field:
Fields:
None
Default Mosaic Method: Center
Allowed Mosaic Methods:
SortField:
SortValue: null
Mosaic Operator: First
Default Compression Quality: 75
Default Resampling Method: Bilinear
Max Record Count: null
Max Image Height: 4100
Max Image Width: 15000
Max Download Image Count: null
Max Mosaic Image Count: null
Allow Raster Function: true
Allow Copy: true
Allow Analysis: true
Allow Compute TiePoints: false
Supports Statistics: false
Supports Advanced Queries: false
Use StandardizedQueries: true
Raster Type Infos:
Name: Raster Dataset
Description: Supports all ArcGIS Raster Datasets
Help:
Has Raster Attribute Table: false
Edit Fields Info: null
Ownership Based AccessControl For Rasters: null
Child Resources:
Info
Histograms
Statistics
Key Properties
Legend
Raster Function Infos
Supported Operations:
Export Image
Identify
Compute Histograms
Compute Statistics Histograms
Get Samples
Compute Class Statistics
Query Boundary
Compute Pixel Location
Compute Angles
Validate
Project