View In:
ArcGIS JavaScript
ArcGIS Online Map Viewer
ArcGIS Earth
Service Description: Hosted/20230911_NER_0m58_WV02_GarinDogo_Clip
Name: Hosted/20230911_NER_0m58_WV02_GarinDogo_Clip
Description:
Single Fused Map Cache: true
Tile Info:
- Height: 256
- Width: 256
- DPI: 96
-
Levels of Detail: 6
-
Level ID: 0
[ Start Tile, End Tile ]
- Resolution: 16.25319650131741
- Scale: 61429.28124065918
-
Level ID: 1
[ Start Tile, End Tile ]
- Resolution: 8.126598250658706
- Scale: 30714.64062032959
-
Level ID: 2
[ Start Tile, End Tile ]
- Resolution: 4.063299125329353
- Scale: 15357.320310164794
-
Level ID: 3
[ Start Tile, End Tile ]
- Resolution: 2.0316495626646764
- Scale: 7678.660155082397
-
Level ID: 4
[ Start Tile, End Tile ]
- Resolution: 1.0158247813323382
- Scale: 3839.3300775411985
-
Level ID: 5
[ Start Tile, End Tile ]
- Resolution: 0.5079123906661691
- Scale: 1919.6650387705993
- Format: LERC2D
- Compression Quality: 100000.0
- LERC Error: 0.1
- Origin: X: 1417715.8315282017
Y: 1508670.8750271122
- Spatial Reference: 102100
(3857)
LatestVCSWkid(0)
Storage Info:
- Storage Format: esriMapCacheStorageModeCompactV2
- Packet Size: 16
Extent:
XMin: 1417715.8315282017
YMin: 1505173.8982173756
XMax: 1425359.9130077276
YMax: 1508670.8750271122
Spatial Reference: 102100
(3857)
LatestVCSWkid(0)
Initial Extent:
XMin: 1417715.8315282017
YMin: 1505173.8982173756
XMax: 1425359.9130077276
YMax: 1508670.8750271122
Spatial Reference: 102100
(3857)
LatestVCSWkid(0)
Full Extent:
XMin: 1417715.8315282017
YMin: 1505173.8982173756
XMax: 1425359.9130077276
YMax: 1508670.8750271122
Spatial Reference: 102100
(3857)
LatestVCSWkid(0)
Pixel Size X: 0.5079123906661722
Pixel Size Y: 0.5079123906661691
Band Count: 3
Pixel Type: U8
RasterFunction Infos: {"rasterFunctionInfos": [{
"name": "None",
"description": "",
"help": ""
}]}
Mensuration Capabilities: Basic
Inspection Capabilities:
Has Histograms: true
Has Colormap: false
Has Multi Dimensions : false
Rendering Rule:
Min Scale: 0
Max Scale: 0
Copyright Text:
Service Data Type: esriImageServiceDataTypeRGB
Min Values: 1, 1, 1
Max Values: 255, 255, 255
Mean Values: 183.3767557375999, 175.59490675654368, 147.3698901960207
Standard Deviation Values: 53.93477156920011, 47.829912721573706, 40.19106007395146
Object ID Field:
Fields:
None
Default Mosaic Method: Center
Allowed Mosaic Methods:
SortField:
SortValue: null
Mosaic Operator: First
Default Compression Quality: 75
Default Resampling Method: Bilinear
Max Record Count: null
Max Image Height: 4100
Max Image Width: 15000
Max Download Image Count: null
Max Mosaic Image Count: null
Allow Raster Function: true
Allow Copy: true
Allow Analysis: true
Allow Compute TiePoints: false
Supports Statistics: false
Supports Advanced Queries: false
Use StandardizedQueries: true
Raster Type Infos:
Name: Raster Dataset
Description: Supports all ArcGIS Raster Datasets
Help:
Has Raster Attribute Table: false
Edit Fields Info: null
Ownership Based AccessControl For Rasters: null
Child Resources:
Info
Histograms
Statistics
Key Properties
Legend
Raster Function Infos
Supported Operations:
Export Image
Identify
Compute Histograms
Compute Statistics Histograms
Get Samples
Compute Class Statistics
Query Boundary
Compute Pixel Location
Compute Angles
Validate
Project