View In:
ArcGIS JavaScript
ArcGIS Online Map Viewer
ArcGIS Earth
Service Description: Hosted/20231213_CMR_0m31_WV03_VNIR_Mokolo
Name: Hosted/20231213_CMR_0m31_WV03_VNIR_Mokolo
Description:
Single Fused Map Cache: true
Tile Info:
- Height: 256
- Width: 256
- DPI: 96
-
Levels of Detail: 9
-
Level ID: 0
[ Start Tile, End Tile ]
- Resolution: 79.36478046322345
- Scale: 299960.77505636227
-
Level ID: 1
[ Start Tile, End Tile ]
- Resolution: 39.68239023161173
- Scale: 149980.38752818113
-
Level ID: 2
[ Start Tile, End Tile ]
- Resolution: 19.841195115805863
- Scale: 74990.19376409057
-
Level ID: 3
[ Start Tile, End Tile ]
- Resolution: 9.920597557902932
- Scale: 37495.09688204528
-
Level ID: 4
[ Start Tile, End Tile ]
- Resolution: 4.960298778951466
- Scale: 18747.54844102264
-
Level ID: 5
[ Start Tile, End Tile ]
- Resolution: 2.480149389475733
- Scale: 9373.77422051132
-
Level ID: 6
[ Start Tile, End Tile ]
- Resolution: 1.2400746947378665
- Scale: 4686.88711025566
-
Level ID: 7
[ Start Tile, End Tile ]
- Resolution: 0.6200373473689332
- Scale: 2343.44355512783
-
Level ID: 8
[ Start Tile, End Tile ]
- Resolution: 0.3100186736844666
- Scale: 1171.721777563915
- Format: LERC2D
- Compression Quality: 100000.0
- LERC Error: 0.1
- Origin: X: 1529336.9987000003
Y: 1206786.0430999987
- Spatial Reference: 102100
(3857)
LatestVCSWkid(0)
Storage Info:
- Storage Format: esriMapCacheStorageModeCompactV2
- Packet Size: 16
Extent:
XMin: 1529336.9987000003
YMin: 1194192.1545189146
XMax: 1542687.3328448746
YMax: 1206786.0430999987
Spatial Reference: 102100
(3857)
LatestVCSWkid(0)
Initial Extent:
XMin: 1529336.9987000003
YMin: 1194192.1545189146
XMax: 1542687.3328448746
YMax: 1206786.0430999987
Spatial Reference: 102100
(3857)
LatestVCSWkid(0)
Full Extent:
XMin: 1529336.9987000003
YMin: 1194192.1545189146
XMax: 1542687.3328448746
YMax: 1206786.0430999987
Spatial Reference: 102100
(3857)
LatestVCSWkid(0)
Pixel Size X: 0.31001867368446795
Pixel Size Y: 0.3100186736844666
Band Count: 3
Pixel Type: U8
RasterFunction Infos: {"rasterFunctionInfos": [{
"name": "None",
"description": "",
"help": ""
}]}
Mensuration Capabilities: Basic
Inspection Capabilities:
Has Histograms: true
Has Colormap: false
Has Multi Dimensions : false
Rendering Rule:
Min Scale: 0
Max Scale: 0
Copyright Text:
Service Data Type: esriImageServiceDataTypeRGB
Min Values: 1, 1, 1
Max Values: 255, 255, 255
Mean Values: 108.4052533493065, 106.19880040719511, 102.09630620145329
Standard Deviation Values: 20.841961876631178, 19.470583911688877, 17.7993681195785
Object ID Field:
Fields:
None
Default Mosaic Method: Center
Allowed Mosaic Methods:
SortField:
SortValue: null
Mosaic Operator: First
Default Compression Quality: 75
Default Resampling Method: Bilinear
Max Record Count: null
Max Image Height: 4100
Max Image Width: 15000
Max Download Image Count: null
Max Mosaic Image Count: null
Allow Raster Function: true
Allow Copy: true
Allow Analysis: true
Allow Compute TiePoints: false
Supports Statistics: false
Supports Advanced Queries: false
Use StandardizedQueries: true
Raster Type Infos:
Name: Raster Dataset
Description: Supports all ArcGIS Raster Datasets
Help:
Has Raster Attribute Table: false
Edit Fields Info: null
Ownership Based AccessControl For Rasters: null
Child Resources:
Info
Histograms
Statistics
Key Properties
Legend
Raster Function Infos
Supported Operations:
Export Image
Identify
Compute Histograms
Compute Statistics Histograms
Get Samples
Compute Class Statistics
Query Boundary
Compute Pixel Location
Compute Angles
Validate
Project