View In:
ArcGIS JavaScript
ArcGIS Online Map Viewer
ArcGIS Earth
Service Description: Hosted/HTI_Drone_AviationMilitaire
Name: Hosted/HTI_Drone_AviationMilitaire
Description:
Single Fused Map Cache: true
Tile Info:
- Height: 256
- Width: 256
- DPI: 96
-
Levels of Detail: 9
-
Level ID: 0
[ Start Tile, End Tile ]
- Resolution: 12.090137239143118
- Scale: 45694.91549808619
-
Level ID: 1
[ Start Tile, End Tile ]
- Resolution: 6.045068619571559
- Scale: 22847.457749043097
-
Level ID: 2
[ Start Tile, End Tile ]
- Resolution: 3.0225343097857795
- Scale: 11423.728874521548
-
Level ID: 3
[ Start Tile, End Tile ]
- Resolution: 1.5112671548928898
- Scale: 5711.864437260774
-
Level ID: 4
[ Start Tile, End Tile ]
- Resolution: 0.7556335774464449
- Scale: 2855.932218630387
-
Level ID: 5
[ Start Tile, End Tile ]
- Resolution: 0.37781678872322244
- Scale: 1427.9661093151935
-
Level ID: 6
[ Start Tile, End Tile ]
- Resolution: 0.18890839436161122
- Scale: 713.9830546575968
-
Level ID: 7
[ Start Tile, End Tile ]
- Resolution: 0.09445419718080561
- Scale: 356.9915273287984
-
Level ID: 8
[ Start Tile, End Tile ]
- Resolution: 0.047227098590402805
- Scale: 178.4957636643992
- Format: LERC2D
- Compression Quality: 100000.0
- LERC Error: 0.1
- Origin: X: -8052031.646911045
Y: 2103436.482180014
- Spatial Reference: 102100
(3857)
LatestVCSWkid(0)
Storage Info:
- Storage Format: esriMapCacheStorageModeCompactV2
- Packet Size: 16
Extent:
XMin: -8052031.646911045
YMin: 2101050.994203114
XMax: -8049475.574654036
YMax: 2103436.482180014
Spatial Reference: 102100
(3857)
LatestVCSWkid(0)
Initial Extent:
XMin: -8052031.646911045
YMin: 2101050.994203114
XMax: -8049475.574654036
YMax: 2103436.482180014
Spatial Reference: 102100
(3857)
LatestVCSWkid(0)
Full Extent:
XMin: -8052031.646911045
YMin: 2101050.994203114
XMax: -8049475.574654036
YMax: 2103436.482180014
Spatial Reference: 102100
(3857)
LatestVCSWkid(0)
Pixel Size X: 0.04722709859040341
Pixel Size Y: 0.047227098590402805
Band Count: 4
Pixel Type: U8
RasterFunction Infos: {"rasterFunctionInfos": [{
"name": "None",
"description": "",
"help": ""
}]}
Mensuration Capabilities: Basic
Inspection Capabilities:
Has Histograms: true
Has Colormap: false
Has Multi Dimensions : false
Rendering Rule:
Min Scale: 0
Max Scale: 0
Copyright Text:
Service Data Type: esriImageServiceDataTypeGeneric
Min Values: 1, 1, 1, 255
Max Values: 255, 255, 255, 255
Mean Values: 126.58775475539741, 125.14475105373624, 120.66693552976108, 255
Standard Deviation Values: 61.17955831844309, 59.127754957385996, 60.149423234983026, 0
Object ID Field:
Fields:
None
Default Mosaic Method: Center
Allowed Mosaic Methods:
SortField:
SortValue: null
Mosaic Operator: First
Default Compression Quality: 75
Default Resampling Method: Bilinear
Max Record Count: null
Max Image Height: 4100
Max Image Width: 15000
Max Download Image Count: null
Max Mosaic Image Count: null
Allow Raster Function: true
Allow Copy: true
Allow Analysis: true
Allow Compute TiePoints: false
Supports Statistics: false
Supports Advanced Queries: false
Use StandardizedQueries: true
Raster Type Infos:
Name: Raster Dataset
Description: Supports all ArcGIS Raster Datasets
Help:
Has Raster Attribute Table: false
Edit Fields Info: null
Ownership Based AccessControl For Rasters: null
Child Resources:
Info
Histograms
Statistics
Key Properties
Legend
Raster Function Infos
Supported Operations:
Export Image
Identify
Compute Histograms
Compute Statistics Histograms
Get Samples
Compute Class Statistics
Query Boundary
Compute Pixel Location
Compute Angles
Validate
Project