View In:
ArcGIS JavaScript
ArcGIS Online Map Viewer
ArcGIS Earth
Service Description: Hosted/HTI_Drone_Bicentenaire
Name: Hosted/HTI_Drone_Bicentenaire
Description:
Single Fused Map Cache: true
Tile Info:
- Height: 256
- Width: 256
- DPI: 96
-
Levels of Detail: 9
-
Level ID: 0
[ Start Tile, End Tile ]
- Resolution: 12.179654007372859
- Scale: 46033.245913945866
-
Level ID: 1
[ Start Tile, End Tile ]
- Resolution: 6.0898270036864295
- Scale: 23016.622956972933
-
Level ID: 2
[ Start Tile, End Tile ]
- Resolution: 3.0449135018432147
- Scale: 11508.311478486467
-
Level ID: 3
[ Start Tile, End Tile ]
- Resolution: 1.5224567509216074
- Scale: 5754.155739243233
-
Level ID: 4
[ Start Tile, End Tile ]
- Resolution: 0.7612283754608037
- Scale: 2877.0778696216166
-
Level ID: 5
[ Start Tile, End Tile ]
- Resolution: 0.38061418773040184
- Scale: 1438.5389348108083
-
Level ID: 6
[ Start Tile, End Tile ]
- Resolution: 0.19030709386520092
- Scale: 719.2694674054042
-
Level ID: 7
[ Start Tile, End Tile ]
- Resolution: 0.09515354693260046
- Scale: 359.6347337027021
-
Level ID: 8
[ Start Tile, End Tile ]
- Resolution: 0.04757677346630023
- Scale: 179.81736685135104
- Format: LERC2D
- Compression Quality: 100000.0
- LERC Error: 0.1
- Origin: X: -8054219.319737732
Y: 2102278.9757031254
- Spatial Reference: 102100
(3857)
LatestVCSWkid(0)
Storage Info:
- Storage Format: esriMapCacheStorageModeCompactV2
- Packet Size: 16
Extent:
XMin: -8054219.319737732
YMin: 2099935.1535350815
XMax: -8051791.952755482
YMax: 2102278.9757031254
Spatial Reference: 102100
(3857)
LatestVCSWkid(0)
Initial Extent:
XMin: -8054219.319737732
YMin: 2099935.1535350815
XMax: -8051791.952755482
YMax: 2102278.9757031254
Spatial Reference: 102100
(3857)
LatestVCSWkid(0)
Full Extent:
XMin: -8054219.319737732
YMin: 2099935.1535350815
XMax: -8051791.952755482
YMax: 2102278.9757031254
Spatial Reference: 102100
(3857)
LatestVCSWkid(0)
Pixel Size X: 0.04757677346629703
Pixel Size Y: 0.04757677346630023
Band Count: 4
Pixel Type: U8
RasterFunction Infos: {"rasterFunctionInfos": [{
"name": "None",
"description": "",
"help": ""
}]}
Mensuration Capabilities: Basic
Inspection Capabilities:
Has Histograms: true
Has Colormap: false
Has Multi Dimensions : false
Rendering Rule:
Min Scale: 0
Max Scale: 0
Copyright Text:
Service Data Type: esriImageServiceDataTypeGeneric
Min Values: 1, 1, 1, 255
Max Values: 255, 255, 255, 255
Mean Values: 117.22637632982779, 116.35066345734182, 107.6492009473583, 255
Standard Deviation Values: 60.086117231412494, 56.96619255398834, 58.479969172699505, 0
Object ID Field:
Fields:
None
Default Mosaic Method: Center
Allowed Mosaic Methods:
SortField:
SortValue: null
Mosaic Operator: First
Default Compression Quality: 75
Default Resampling Method: Bilinear
Max Record Count: null
Max Image Height: 4100
Max Image Width: 15000
Max Download Image Count: null
Max Mosaic Image Count: null
Allow Raster Function: true
Allow Copy: true
Allow Analysis: true
Allow Compute TiePoints: false
Supports Statistics: false
Supports Advanced Queries: false
Use StandardizedQueries: true
Raster Type Infos:
Name: Raster Dataset
Description: Supports all ArcGIS Raster Datasets
Help:
Has Raster Attribute Table: false
Edit Fields Info: null
Ownership Based AccessControl For Rasters: null
Child Resources:
Info
Histograms
Statistics
Key Properties
Legend
Raster Function Infos
Supported Operations:
Export Image
Identify
Compute Histograms
Compute Statistics Histograms
Get Samples
Compute Class Statistics
Query Boundary
Compute Pixel Location
Compute Angles
Validate
Project