View In:
ArcGIS JavaScript
ArcGIS Online Map Viewer
ArcGIS Earth
Service Description: Hosted/HTI_Drone_CiteMilitaire
Name: Hosted/HTI_Drone_CiteMilitaire
Description:
Single Fused Map Cache: true
Tile Info:
- Height: 256
- Width: 256
- DPI: 96
-
Levels of Detail: 8
-
Level ID: 0
[ Start Tile, End Tile ]
- Resolution: 5.907975110831699
- Scale: 22329.31009089062
-
Level ID: 1
[ Start Tile, End Tile ]
- Resolution: 2.9539875554158495
- Scale: 11164.65504544531
-
Level ID: 2
[ Start Tile, End Tile ]
- Resolution: 1.4769937777079247
- Scale: 5582.327522722655
-
Level ID: 3
[ Start Tile, End Tile ]
- Resolution: 0.7384968888539624
- Scale: 2791.1637613613275
-
Level ID: 4
[ Start Tile, End Tile ]
- Resolution: 0.3692484444269812
- Scale: 1395.5818806806637
-
Level ID: 5
[ Start Tile, End Tile ]
- Resolution: 0.1846242222134906
- Scale: 697.7909403403319
-
Level ID: 6
[ Start Tile, End Tile ]
- Resolution: 0.0923121111067453
- Scale: 348.89547017016594
-
Level ID: 7
[ Start Tile, End Tile ]
- Resolution: 0.04615605555337265
- Scale: 174.44773508508297
- Format: LERC2D
- Compression Quality: 100000.0
- LERC Error: 0.1
- Origin: X: -8051562.83973126
Y: 2104014.5228662803
- Spatial Reference: 102100
(3857)
LatestVCSWkid(0)
Storage Info:
- Storage Format: esriMapCacheStorageModeCompactV2
- Packet Size: 16
Extent:
XMin: -8051562.83973126
YMin: 2103129.434344989
XMax: -8049919.591841449
YMax: 2104014.5228662803
Spatial Reference: 102100
(3857)
LatestVCSWkid(0)
Initial Extent:
XMin: -8051562.83973126
YMin: 2103129.434344989
XMax: -8049919.591841449
YMax: 2104014.5228662803
Spatial Reference: 102100
(3857)
LatestVCSWkid(0)
Full Extent:
XMin: -8051562.83973126
YMin: 2103129.434344989
XMax: -8049919.591841449
YMax: 2104014.5228662803
Spatial Reference: 102100
(3857)
LatestVCSWkid(0)
Pixel Size X: 0.04615605555337265
Pixel Size Y: 0.046156055553374105
Band Count: 4
Pixel Type: U8
RasterFunction Infos: {"rasterFunctionInfos": [{
"name": "None",
"description": "",
"help": ""
}]}
Mensuration Capabilities: Basic
Inspection Capabilities:
Has Histograms: true
Has Colormap: false
Has Multi Dimensions : false
Rendering Rule:
Min Scale: 0
Max Scale: 0
Copyright Text:
Service Data Type: esriImageServiceDataTypeGeneric
Min Values: 1, 1, 1, 255
Max Values: 255, 255, 255, 255
Mean Values: 119.84548268840945, 121.59415792453869, 119.80840037276826, 255
Standard Deviation Values: 54.132498525226204, 50.96943041846064, 49.72328994188591, 0
Object ID Field:
Fields:
None
Default Mosaic Method: Center
Allowed Mosaic Methods:
SortField:
SortValue: null
Mosaic Operator: First
Default Compression Quality: 75
Default Resampling Method: Bilinear
Max Record Count: null
Max Image Height: 4100
Max Image Width: 15000
Max Download Image Count: null
Max Mosaic Image Count: null
Allow Raster Function: true
Allow Copy: true
Allow Analysis: true
Allow Compute TiePoints: false
Supports Statistics: false
Supports Advanced Queries: false
Use StandardizedQueries: true
Raster Type Infos:
Name: Raster Dataset
Description: Supports all ArcGIS Raster Datasets
Help:
Has Raster Attribute Table: false
Edit Fields Info: null
Ownership Based AccessControl For Rasters: null
Child Resources:
Info
Histograms
Statistics
Key Properties
Legend
Raster Function Infos
Supported Operations:
Export Image
Identify
Compute Histograms
Compute Statistics Histograms
Get Samples
Compute Class Statistics
Query Boundary
Compute Pixel Location
Compute Angles
Validate
Project