View In:
ArcGIS JavaScript
ArcGIS Online Map Viewer
ArcGIS Earth
Service Description: Hosted/HTI_Drone_ConstellationHotel
Name: Hosted/HTI_Drone_ConstellationHotel
Description:
Single Fused Map Cache: true
Tile Info:
- Height: 256
- Width: 256
- DPI: 96
-
Levels of Detail: 7
-
Level ID: 0
[ Start Tile, End Tile ]
- Resolution: 2.9890686720777975
- Scale: 11297.244827491477
-
Level ID: 1
[ Start Tile, End Tile ]
- Resolution: 1.4945343360388987
- Scale: 5648.622413745738
-
Level ID: 2
[ Start Tile, End Tile ]
- Resolution: 0.7472671680194494
- Scale: 2824.311206872869
-
Level ID: 3
[ Start Tile, End Tile ]
- Resolution: 0.3736335840097247
- Scale: 1412.1556034364346
-
Level ID: 4
[ Start Tile, End Tile ]
- Resolution: 0.18681679200486234
- Scale: 706.0778017182173
-
Level ID: 5
[ Start Tile, End Tile ]
- Resolution: 0.09340839600243117
- Scale: 353.03890085910865
-
Level ID: 6
[ Start Tile, End Tile ]
- Resolution: 0.046704198001215586
- Scale: 176.51945042955433
- Format: LERC2D
- Compression Quality: 100000.0
- LERC Error: 0.1
- Origin: X: -8050798.392352873
Y: 2103383.3034135504
- Spatial Reference: 102100
(3857)
LatestVCSWkid(0)
Storage Info:
- Storage Format: esriMapCacheStorageModeCompactV2
- Packet Size: 16
Extent:
XMin: -8050798.392352873
YMin: 2102925.6956815342
XMax: -8050302.206953309
YMax: 2103383.3034135504
Spatial Reference: 102100
(3857)
LatestVCSWkid(0)
Initial Extent:
XMin: -8050798.392352873
YMin: 2102925.6956815342
XMax: -8050302.206953309
YMax: 2103383.3034135504
Spatial Reference: 102100
(3857)
LatestVCSWkid(0)
Full Extent:
XMin: -8050798.392352873
YMin: 2102925.6956815342
XMax: -8050302.206953309
YMax: 2103383.3034135504
Spatial Reference: 102100
(3857)
LatestVCSWkid(0)
Pixel Size X: 0.046704198001215586
Pixel Size Y: 0.046704198001237755
Band Count: 4
Pixel Type: U8
RasterFunction Infos: {"rasterFunctionInfos": [{
"name": "None",
"description": "",
"help": ""
}]}
Mensuration Capabilities: Basic
Inspection Capabilities:
Has Histograms: true
Has Colormap: false
Has Multi Dimensions : false
Rendering Rule:
Min Scale: 0
Max Scale: 0
Copyright Text:
Service Data Type: esriImageServiceDataTypeGeneric
Min Values: 1, 1, 1, 255
Max Values: 255, 255, 255, 255
Mean Values: 113.371452070925, 111.56120486855258, 107.64989958938021, 255
Standard Deviation Values: 59.18312390230493, 57.27621543764703, 57.186159232126286, 0
Object ID Field:
Fields:
None
Default Mosaic Method: Center
Allowed Mosaic Methods:
SortField:
SortValue: null
Mosaic Operator: First
Default Compression Quality: 75
Default Resampling Method: Bilinear
Max Record Count: null
Max Image Height: 4100
Max Image Width: 15000
Max Download Image Count: null
Max Mosaic Image Count: null
Allow Raster Function: true
Allow Copy: true
Allow Analysis: true
Allow Compute TiePoints: false
Supports Statistics: false
Supports Advanced Queries: false
Use StandardizedQueries: true
Raster Type Infos:
Name: Raster Dataset
Description: Supports all ArcGIS Raster Datasets
Help:
Has Raster Attribute Table: false
Edit Fields Info: null
Ownership Based AccessControl For Rasters: null
Child Resources:
Info
Histograms
Statistics
Key Properties
Legend
Raster Function Infos
Supported Operations:
Export Image
Identify
Compute Histograms
Compute Statistics Histograms
Get Samples
Compute Class Statistics
Query Boundary
Compute Pixel Location
Compute Angles
Validate
Project