View In:
ArcGIS JavaScript
ArcGIS Online Map Viewer
ArcGIS Earth
Service Description: Hosted/HTI_Drone_Delmas2_BelAir
Name: Hosted/HTI_Drone_Delmas2_BelAir
Description:
Single Fused Map Cache: true
Tile Info:
- Height: 256
- Width: 256
- DPI: 96
-
Levels of Detail: 9
-
Level ID: 0
[ Start Tile, End Tile ]
- Resolution: 11.584440258654356
- Scale: 43783.62364638931
-
Level ID: 1
[ Start Tile, End Tile ]
- Resolution: 5.792220129327178
- Scale: 21891.811823194654
-
Level ID: 2
[ Start Tile, End Tile ]
- Resolution: 2.896110064663589
- Scale: 10945.905911597327
-
Level ID: 3
[ Start Tile, End Tile ]
- Resolution: 1.4480550323317944
- Scale: 5472.952955798663
-
Level ID: 4
[ Start Tile, End Tile ]
- Resolution: 0.7240275161658972
- Scale: 2736.4764778993317
-
Level ID: 5
[ Start Tile, End Tile ]
- Resolution: 0.3620137580829486
- Scale: 1368.2382389496659
-
Level ID: 6
[ Start Tile, End Tile ]
- Resolution: 0.1810068790414743
- Scale: 684.1191194748329
-
Level ID: 7
[ Start Tile, End Tile ]
- Resolution: 0.09050343952073715
- Scale: 342.05955973741646
-
Level ID: 8
[ Start Tile, End Tile ]
- Resolution: 0.045251719760368576
- Scale: 171.02977986870823
- Format: LERC2D
- Compression Quality: 100000.0
- LERC Error: 0.1
- Origin: X: -8052588.460336825
Y: 2102954.506272124
- Spatial Reference: 102100
(3857)
LatestVCSWkid(0)
Storage Info:
- Storage Format: esriMapCacheStorageModeCompactV2
- Packet Size: 16
Extent:
XMin: -8052588.460336825
YMin: 2101275.8484758935
XMax: -8051048.6800685385
YMax: 2102954.506272124
Spatial Reference: 102100
(3857)
LatestVCSWkid(0)
Initial Extent:
XMin: -8052588.460336825
YMin: 2101275.8484758935
XMax: -8051048.6800685385
YMax: 2102954.506272124
Spatial Reference: 102100
(3857)
LatestVCSWkid(0)
Full Extent:
XMin: -8052588.460336825
YMin: 2101275.8484758935
XMax: -8051048.6800685385
YMax: 2102954.506272124
Spatial Reference: 102100
(3857)
LatestVCSWkid(0)
Pixel Size X: 0.045251719760377195
Pixel Size Y: 0.045251719760368576
Band Count: 4
Pixel Type: U8
RasterFunction Infos: {"rasterFunctionInfos": [{
"name": "None",
"description": "",
"help": ""
}]}
Mensuration Capabilities: Basic
Inspection Capabilities:
Has Histograms: true
Has Colormap: false
Has Multi Dimensions : false
Rendering Rule:
Min Scale: 0
Max Scale: 0
Copyright Text:
Service Data Type: esriImageServiceDataTypeGeneric
Min Values: 1, 1, 1, 255
Max Values: 255, 255, 255, 255
Mean Values: 125.57762571162787, 123.51735225699203, 119.44548858720411, 255
Standard Deviation Values: 63.726354968774494, 62.27093175010208, 62.56257513276129, 0
Object ID Field:
Fields:
None
Default Mosaic Method: Center
Allowed Mosaic Methods:
SortField:
SortValue: null
Mosaic Operator: First
Default Compression Quality: 75
Default Resampling Method: Bilinear
Max Record Count: null
Max Image Height: 4100
Max Image Width: 15000
Max Download Image Count: null
Max Mosaic Image Count: null
Allow Raster Function: true
Allow Copy: true
Allow Analysis: true
Allow Compute TiePoints: false
Supports Statistics: false
Supports Advanced Queries: false
Use StandardizedQueries: true
Raster Type Infos:
Name: Raster Dataset
Description: Supports all ArcGIS Raster Datasets
Help:
Has Raster Attribute Table: false
Edit Fields Info: null
Ownership Based AccessControl For Rasters: null
Child Resources:
Info
Histograms
Statistics
Key Properties
Legend
Raster Function Infos
Supported Operations:
Export Image
Identify
Compute Histograms
Compute Statistics Histograms
Get Samples
Compute Class Statistics
Query Boundary
Compute Pixel Location
Compute Angles
Validate
Project