View In:
ArcGIS JavaScript
ArcGIS Online Map Viewer
ArcGIS Earth
Service Description: Hosted/HTI_Drone_Delmas2_StMarti
Name: Hosted/HTI_Drone_Delmas2_StMarti
Description:
Single Fused Map Cache: true
Tile Info:
- Height: 256
- Width: 256
- DPI: 96
-
Levels of Detail: 9
-
Level ID: 0
[ Start Tile, End Tile ]
- Resolution: 11.55886305249103
- Scale: 43686.9540841509
-
Level ID: 1
[ Start Tile, End Tile ]
- Resolution: 5.779431526245515
- Scale: 21843.47704207545
-
Level ID: 2
[ Start Tile, End Tile ]
- Resolution: 2.8897157631227577
- Scale: 10921.738521037725
-
Level ID: 3
[ Start Tile, End Tile ]
- Resolution: 1.4448578815613788
- Scale: 5460.869260518863
-
Level ID: 4
[ Start Tile, End Tile ]
- Resolution: 0.7224289407806894
- Scale: 2730.4346302594313
-
Level ID: 5
[ Start Tile, End Tile ]
- Resolution: 0.3612144703903447
- Scale: 1365.2173151297156
-
Level ID: 6
[ Start Tile, End Tile ]
- Resolution: 0.18060723519517236
- Scale: 682.6086575648578
-
Level ID: 7
[ Start Tile, End Tile ]
- Resolution: 0.09030361759758618
- Scale: 341.3043287824289
-
Level ID: 8
[ Start Tile, End Tile ]
- Resolution: 0.04515180879879309
- Scale: 170.65216439121446
- Format: LERC2D
- Compression Quality: 100000.0
- LERC Error: 0.1
- Origin: X: -8052614.009761194
Y: 2102974.346487491
- Spatial Reference: 102100
(3857)
LatestVCSWkid(0)
Storage Info:
- Storage Format: esriMapCacheStorageModeCompactV2
- Packet Size: 16
Extent:
XMin: -8052614.009761194
YMin: 2101247.334952746
XMax: -8051025.704583079
YMax: 2102974.346487491
Spatial Reference: 102100
(3857)
LatestVCSWkid(0)
Initial Extent:
XMin: -8052614.009761194
YMin: 2101247.334952746
XMax: -8051025.704583079
YMax: 2102974.346487491
Spatial Reference: 102100
(3857)
LatestVCSWkid(0)
Full Extent:
XMin: -8052614.009761194
YMin: 2101247.334952746
XMax: -8051025.704583079
YMax: 2102974.346487491
Spatial Reference: 102100
(3857)
LatestVCSWkid(0)
Pixel Size X: 0.04515180879879309
Pixel Size Y: 0.04515180879878882
Band Count: 4
Pixel Type: U8
RasterFunction Infos: {"rasterFunctionInfos": [{
"name": "None",
"description": "",
"help": ""
}]}
Mensuration Capabilities: Basic
Inspection Capabilities:
Has Histograms: true
Has Colormap: false
Has Multi Dimensions : false
Rendering Rule:
Min Scale: 0
Max Scale: 0
Copyright Text:
Service Data Type: esriImageServiceDataTypeGeneric
Min Values: 1, 1, 1, 255
Max Values: 255, 255, 255, 255
Mean Values: 124.54192669297564, 122.6877432010686, 118.50316030690857, 255
Standard Deviation Values: 63.031590714492815, 61.58742121927211, 62.124576516214496, 0
Object ID Field:
Fields:
None
Default Mosaic Method: Center
Allowed Mosaic Methods:
SortField:
SortValue: null
Mosaic Operator: First
Default Compression Quality: 75
Default Resampling Method: Bilinear
Max Record Count: null
Max Image Height: 4100
Max Image Width: 15000
Max Download Image Count: null
Max Mosaic Image Count: null
Allow Raster Function: true
Allow Copy: true
Allow Analysis: true
Allow Compute TiePoints: false
Supports Statistics: false
Supports Advanced Queries: false
Use StandardizedQueries: true
Raster Type Infos:
Name: Raster Dataset
Description: Supports all ArcGIS Raster Datasets
Help:
Has Raster Attribute Table: false
Edit Fields Info: null
Ownership Based AccessControl For Rasters: null
Child Resources:
Info
Histograms
Statistics
Key Properties
Legend
Raster Function Infos
Supported Operations:
Export Image
Identify
Compute Histograms
Compute Statistics Histograms
Get Samples
Compute Class Statistics
Query Boundary
Compute Pixel Location
Compute Angles
Validate
Project