View In:
ArcGIS JavaScript
ArcGIS Online Map Viewer
ArcGIS Earth
Service Description: Hosted/HTI_Drone_Juvenat
Name: Hosted/HTI_Drone_Juvenat
Description:
Single Fused Map Cache: true
Tile Info:
- Height: 256
- Width: 256
- DPI: 96
-
Levels of Detail: 9
-
Level ID: 0
[ Start Tile, End Tile ]
- Resolution: 12.239113425855543
- Scale: 46257.97397528954
-
Level ID: 1
[ Start Tile, End Tile ]
- Resolution: 6.119556712927771
- Scale: 23128.98698764477
-
Level ID: 2
[ Start Tile, End Tile ]
- Resolution: 3.0597783564638856
- Scale: 11564.493493822385
-
Level ID: 3
[ Start Tile, End Tile ]
- Resolution: 1.5298891782319428
- Scale: 5782.2467469111925
-
Level ID: 4
[ Start Tile, End Tile ]
- Resolution: 0.7649445891159714
- Scale: 2891.1233734555963
-
Level ID: 5
[ Start Tile, End Tile ]
- Resolution: 0.3824722945579857
- Scale: 1445.5616867277981
-
Level ID: 6
[ Start Tile, End Tile ]
- Resolution: 0.19123614727899285
- Scale: 722.7808433638991
-
Level ID: 7
[ Start Tile, End Tile ]
- Resolution: 0.09561807363949643
- Scale: 361.39042168194953
-
Level ID: 8
[ Start Tile, End Tile ]
- Resolution: 0.04780903681974821
- Scale: 180.69521084097477
- Format: LERC2D
- Compression Quality: 100000.0
- LERC Error: 0.1
- Origin: X: -8049709.658008988
Y: 2099841.432109557
- Spatial Reference: 102100
(3857)
LatestVCSWkid(0)
Storage Info:
- Storage Format: esriMapCacheStorageModeCompactV2
- Packet Size: 16
Extent:
XMin: -8049709.658008988
YMin: 2097425.7849061657
XMax: -8046422.882345704
YMax: 2099841.432109557
Spatial Reference: 102100
(3857)
LatestVCSWkid(0)
Initial Extent:
XMin: -8049709.658008988
YMin: 2097425.7849061657
XMax: -8046422.882345704
YMax: 2099841.432109557
Spatial Reference: 102100
(3857)
LatestVCSWkid(0)
Full Extent:
XMin: -8049709.658008988
YMin: 2097425.7849061657
XMax: -8046422.882345704
YMax: 2099841.432109557
Spatial Reference: 102100
(3857)
LatestVCSWkid(0)
Pixel Size X: 0.04780903681974245
Pixel Size Y: 0.04780903681974821
Band Count: 4
Pixel Type: U8
RasterFunction Infos: {"rasterFunctionInfos": [{
"name": "None",
"description": "",
"help": ""
}]}
Mensuration Capabilities: Basic
Inspection Capabilities:
Has Histograms: true
Has Colormap: false
Has Multi Dimensions : false
Rendering Rule:
Min Scale: 0
Max Scale: 0
Copyright Text:
Service Data Type: esriImageServiceDataTypeGeneric
Min Values: 1, 1, 1, 255
Max Values: 255, 255, 255, 255
Mean Values: 121.6113280800415, 120.25925467138934, 108.42483768129212, 255
Standard Deviation Values: 56.78186999896656, 54.048613961923294, 58.689240054251094, 0
Object ID Field:
Fields:
None
Default Mosaic Method: Center
Allowed Mosaic Methods:
SortField:
SortValue: null
Mosaic Operator: First
Default Compression Quality: 75
Default Resampling Method: Bilinear
Max Record Count: null
Max Image Height: 4100
Max Image Width: 15000
Max Download Image Count: null
Max Mosaic Image Count: null
Allow Raster Function: true
Allow Copy: true
Allow Analysis: true
Allow Compute TiePoints: false
Supports Statistics: false
Supports Advanced Queries: false
Use StandardizedQueries: true
Raster Type Infos:
Name: Raster Dataset
Description: Supports all ArcGIS Raster Datasets
Help:
Has Raster Attribute Table: false
Edit Fields Info: null
Ownership Based AccessControl For Rasters: null
Child Resources:
Info
Histograms
Statistics
Key Properties
Legend
Raster Function Infos
Supported Operations:
Export Image
Identify
Compute Histograms
Compute Statistics Histograms
Get Samples
Compute Class Statistics
Query Boundary
Compute Pixel Location
Compute Angles
Validate
Project