View In:
ArcGIS JavaScript
ArcGIS Online Map Viewer
ArcGIS Earth
Service Description: Hosted/HTI_Drone_Lalue_v2
Name: Hosted/HTI_Drone_Lalue_v2
Description:
Single Fused Map Cache: true
Tile Info:
- Height: 256
- Width: 256
- DPI: 96
-
Levels of Detail: 7
-
Level ID: 0
[ Start Tile, End Tile ]
- Resolution: 2.866039212760902
- Scale: 10832.252525414084
-
Level ID: 1
[ Start Tile, End Tile ]
- Resolution: 1.433019606380451
- Scale: 5416.126262707042
-
Level ID: 2
[ Start Tile, End Tile ]
- Resolution: 0.7165098031902255
- Scale: 2708.063131353521
-
Level ID: 3
[ Start Tile, End Tile ]
- Resolution: 0.35825490159511275
- Scale: 1354.0315656767605
-
Level ID: 4
[ Start Tile, End Tile ]
- Resolution: 0.17912745079755638
- Scale: 677.0157828383802
-
Level ID: 5
[ Start Tile, End Tile ]
- Resolution: 0.08956372539877819
- Scale: 338.5078914191901
-
Level ID: 6
[ Start Tile, End Tile ]
- Resolution: 0.044781862699389094
- Scale: 169.25394570959506
- Format: LERC2D
- Compression Quality: 100000.0
- LERC Error: 0.1
- Origin: X: -8051757.129015313
Y: 2101532.6345320614
- Spatial Reference: 102100
(3857)
LatestVCSWkid(0)
Storage Info:
- Storage Format: esriMapCacheStorageModeCompactV2
- Packet Size: 16
Extent:
XMin: -8051757.129015313
YMin: 2100838.6052239463
XMax: -8051074.922118951
YMax: 2101532.6345320614
Spatial Reference: 102100
(3857)
LatestVCSWkid(0)
Initial Extent:
XMin: -8051757.129015313
YMin: 2100838.6052239463
XMax: -8051074.922118951
YMax: 2101532.6345320614
Spatial Reference: 102100
(3857)
LatestVCSWkid(0)
Full Extent:
XMin: -8051757.129015313
YMin: 2100838.6052239463
XMax: -8051074.922118951
YMax: 2101532.6345320614
Spatial Reference: 102100
(3857)
LatestVCSWkid(0)
Pixel Size X: 0.04478186269941094
Pixel Size Y: 0.044781862699389094
Band Count: 4
Pixel Type: U8
RasterFunction Infos: {"rasterFunctionInfos": [{
"name": "None",
"description": "",
"help": ""
}]}
Mensuration Capabilities: Basic
Inspection Capabilities:
Has Histograms: true
Has Colormap: false
Has Multi Dimensions : false
Rendering Rule:
Min Scale: 0
Max Scale: 0
Copyright Text:
Service Data Type: esriImageServiceDataTypeGeneric
Min Values: 1, 1, 1, 255
Max Values: 255, 255, 255, 255
Mean Values: 115.11924103223222, 114.12870310578622, 107.83962397499835, 255
Standard Deviation Values: 60.267846305879814, 56.42462114446385, 55.30157681384952, 0
Object ID Field:
Fields:
None
Default Mosaic Method: Center
Allowed Mosaic Methods:
SortField:
SortValue: null
Mosaic Operator: First
Default Compression Quality: 75
Default Resampling Method: Bilinear
Max Record Count: null
Max Image Height: 4100
Max Image Width: 15000
Max Download Image Count: null
Max Mosaic Image Count: null
Allow Raster Function: true
Allow Copy: true
Allow Analysis: true
Allow Compute TiePoints: false
Supports Statistics: false
Supports Advanced Queries: false
Use StandardizedQueries: true
Raster Type Infos:
Name: Raster Dataset
Description: Supports all ArcGIS Raster Datasets
Help:
Has Raster Attribute Table: false
Edit Fields Info: null
Ownership Based AccessControl For Rasters: null
Child Resources:
Info
Histograms
Statistics
Key Properties
Legend
Raster Function Infos
Supported Operations:
Export Image
Identify
Compute Histograms
Compute Statistics Histograms
Get Samples
Compute Class Statistics
Query Boundary
Compute Pixel Location
Compute Angles
Validate
Project