View In:
ArcGIS JavaScript
ArcGIS Online Map Viewer
ArcGIS Earth
Service Description: Hosted/HTI_Drone_Lelio
Name: Hosted/HTI_Drone_Lelio
Description:
Single Fused Map Cache: true
Tile Info:
- Height: 256
- Width: 256
- DPI: 96
-
Levels of Detail: 7
-
Level ID: 0
[ Start Tile, End Tile ]
- Resolution: 2.9459987220590818
- Scale: 11134.46108999674
-
Level ID: 1
[ Start Tile, End Tile ]
- Resolution: 1.4729993610295409
- Scale: 5567.23054499837
-
Level ID: 2
[ Start Tile, End Tile ]
- Resolution: 0.7364996805147704
- Scale: 2783.615272499185
-
Level ID: 3
[ Start Tile, End Tile ]
- Resolution: 0.3682498402573852
- Scale: 1391.8076362495924
-
Level ID: 4
[ Start Tile, End Tile ]
- Resolution: 0.1841249201286926
- Scale: 695.9038181247962
-
Level ID: 5
[ Start Tile, End Tile ]
- Resolution: 0.0920624600643463
- Scale: 347.9519090623981
-
Level ID: 6
[ Start Tile, End Tile ]
- Resolution: 0.04603123003217315
- Scale: 173.97595453119905
- Format: LERC2D
- Compression Quality: 100000.0
- LERC Error: 0.1
- Origin: X: -8053104.415325559
Y: 2099978.3887026017
- Spatial Reference: 102100
(3857)
LatestVCSWkid(0)
Storage Info:
- Storage Format: esriMapCacheStorageModeCompactV2
- Packet Size: 16
Extent:
XMin: -8053104.415325559
YMin: 2099360.46547065
XMax: -8052105.583665091
YMax: 2099978.3887026017
Spatial Reference: 102100
(3857)
LatestVCSWkid(0)
Initial Extent:
XMin: -8053104.415325559
YMin: 2099360.46547065
XMax: -8052105.583665091
YMax: 2099978.3887026017
Spatial Reference: 102100
(3857)
LatestVCSWkid(0)
Full Extent:
XMin: -8053104.415325559
YMin: 2099360.46547065
XMax: -8052105.583665091
YMax: 2099978.3887026017
Spatial Reference: 102100
(3857)
LatestVCSWkid(0)
Pixel Size X: 0.04603123003217343
Pixel Size Y: 0.04603123003217315
Band Count: 4
Pixel Type: U8
RasterFunction Infos: {"rasterFunctionInfos": [{
"name": "None",
"description": "",
"help": ""
}]}
Mensuration Capabilities: Basic
Inspection Capabilities:
Has Histograms: true
Has Colormap: false
Has Multi Dimensions : false
Rendering Rule:
Min Scale: 0
Max Scale: 0
Copyright Text:
Service Data Type: esriImageServiceDataTypeGeneric
Min Values: 1, 1, 1, 255
Max Values: 255, 255, 255, 255
Mean Values: 125.4158417042626, 124.36741521568416, 112.11404669807382, 255
Standard Deviation Values: 63.492779893128706, 60.2463807119549, 61.19397432874321, 0
Object ID Field:
Fields:
None
Default Mosaic Method: Center
Allowed Mosaic Methods:
SortField:
SortValue: null
Mosaic Operator: First
Default Compression Quality: 75
Default Resampling Method: Bilinear
Max Record Count: null
Max Image Height: 4100
Max Image Width: 15000
Max Download Image Count: null
Max Mosaic Image Count: null
Allow Raster Function: true
Allow Copy: true
Allow Analysis: true
Allow Compute TiePoints: false
Supports Statistics: false
Supports Advanced Queries: false
Use StandardizedQueries: true
Raster Type Infos:
Name: Raster Dataset
Description: Supports all ArcGIS Raster Datasets
Help:
Has Raster Attribute Table: false
Edit Fields Info: null
Ownership Based AccessControl For Rasters: null
Child Resources:
Info
Histograms
Statistics
Key Properties
Legend
Raster Function Infos
Supported Operations:
Export Image
Identify
Compute Histograms
Compute Statistics Histograms
Get Samples
Compute Class Statistics
Query Boundary
Compute Pixel Location
Compute Angles
Validate
Project