View In:
ArcGIS JavaScript
ArcGIS Online Map Viewer
ArcGIS Earth
Service Description: Hosted/HTI_Drone_MorneATuf
Name: Hosted/HTI_Drone_MorneATuf
Description:
Single Fused Map Cache: true
Tile Info:
- Height: 256
- Width: 256
- DPI: 96
-
Levels of Detail: 8
-
Level ID: 0
[ Start Tile, End Tile ]
- Resolution: 5.980846602005817
- Scale: 22604.729349213027
-
Level ID: 1
[ Start Tile, End Tile ]
- Resolution: 2.9904233010029087
- Scale: 11302.364674606513
-
Level ID: 2
[ Start Tile, End Tile ]
- Resolution: 1.4952116505014543
- Scale: 5651.182337303257
-
Level ID: 3
[ Start Tile, End Tile ]
- Resolution: 0.7476058252507272
- Scale: 2825.5911686516283
-
Level ID: 4
[ Start Tile, End Tile ]
- Resolution: 0.3738029126253636
- Scale: 1412.7955843258142
-
Level ID: 5
[ Start Tile, End Tile ]
- Resolution: 0.1869014563126818
- Scale: 706.3977921629071
-
Level ID: 6
[ Start Tile, End Tile ]
- Resolution: 0.0934507281563409
- Scale: 353.19889608145354
-
Level ID: 7
[ Start Tile, End Tile ]
- Resolution: 0.04672536407817045
- Scale: 176.59944804072677
- Format: LERC2D
- Compression Quality: 100000.0
- LERC Error: 0.1
- Origin: X: -8053870.556277075
Y: 2100733.0250399797
- Spatial Reference: 102100
(3857)
LatestVCSWkid(0)
Storage Info:
- Storage Format: esriMapCacheStorageModeCompactV2
- Packet Size: 16
Extent:
XMin: -8053870.556277075
YMin: 2099347.010565329
XMax: -8052453.235808492
YMax: 2100733.0250399797
Spatial Reference: 102100
(3857)
LatestVCSWkid(0)
Initial Extent:
XMin: -8053870.556277075
YMin: 2099347.010565329
XMax: -8052453.235808492
YMax: 2100733.0250399797
Spatial Reference: 102100
(3857)
LatestVCSWkid(0)
Full Extent:
XMin: -8053870.556277075
YMin: 2099347.010565329
XMax: -8052453.235808492
YMax: 2100733.0250399797
Spatial Reference: 102100
(3857)
LatestVCSWkid(0)
Pixel Size X: 0.04672536407817045
Pixel Size Y: 0.04672536407817297
Band Count: 4
Pixel Type: U8
RasterFunction Infos: {"rasterFunctionInfos": [{
"name": "None",
"description": "",
"help": ""
}]}
Mensuration Capabilities: Basic
Inspection Capabilities:
Has Histograms: true
Has Colormap: false
Has Multi Dimensions : false
Rendering Rule:
Min Scale: 0
Max Scale: 0
Copyright Text:
Service Data Type: esriImageServiceDataTypeGeneric
Min Values: 1, 1, 1, 255
Max Values: 255, 255, 255, 255
Mean Values: 119.31075499965935, 117.33819676088902, 111.23267026068132, 255
Standard Deviation Values: 60.285506835259, 57.23625646614404, 57.09377039256061, 0
Object ID Field:
Fields:
None
Default Mosaic Method: Center
Allowed Mosaic Methods:
SortField:
SortValue: null
Mosaic Operator: First
Default Compression Quality: 75
Default Resampling Method: Bilinear
Max Record Count: null
Max Image Height: 4100
Max Image Width: 15000
Max Download Image Count: null
Max Mosaic Image Count: null
Allow Raster Function: true
Allow Copy: true
Allow Analysis: true
Allow Compute TiePoints: false
Supports Statistics: false
Supports Advanced Queries: false
Use StandardizedQueries: true
Raster Type Infos:
Name: Raster Dataset
Description: Supports all ArcGIS Raster Datasets
Help:
Has Raster Attribute Table: false
Edit Fields Info: null
Ownership Based AccessControl For Rasters: null
Child Resources:
Info
Histograms
Statistics
Key Properties
Legend
Raster Function Infos
Supported Operations:
Export Image
Identify
Compute Histograms
Compute Statistics Histograms
Get Samples
Compute Class Statistics
Query Boundary
Compute Pixel Location
Compute Angles
Validate
Project