View In:
ArcGIS JavaScript
ArcGIS Online Map Viewer
ArcGIS Earth
Service Description: Hosted/HTI_Drone_Pacot
Name: Hosted/HTI_Drone_Pacot
Description:
Single Fused Map Cache: true
Tile Info:
- Height: 256
- Width: 256
- DPI: 96
-
Levels of Detail: 8
-
Level ID: 0
[ Start Tile, End Tile ]
- Resolution: 5.789753956951069
- Scale: 21882.4908753757
-
Level ID: 1
[ Start Tile, End Tile ]
- Resolution: 2.8948769784755344
- Scale: 10941.24543768785
-
Level ID: 2
[ Start Tile, End Tile ]
- Resolution: 1.4474384892377672
- Scale: 5470.622718843925
-
Level ID: 3
[ Start Tile, End Tile ]
- Resolution: 0.7237192446188836
- Scale: 2735.3113594219626
-
Level ID: 4
[ Start Tile, End Tile ]
- Resolution: 0.3618596223094418
- Scale: 1367.6556797109813
-
Level ID: 5
[ Start Tile, End Tile ]
- Resolution: 0.1809298111547209
- Scale: 683.8278398554907
-
Level ID: 6
[ Start Tile, End Tile ]
- Resolution: 0.09046490557736045
- Scale: 341.9139199277453
-
Level ID: 7
[ Start Tile, End Tile ]
- Resolution: 0.045232452788680225
- Scale: 170.95695996387266
- Format: LERC2D
- Compression Quality: 100000.0
- LERC Error: 0.1
- Origin: X: -8051748.850905182
Y: 2099480.3918781593
- Spatial Reference: 102100
(3857)
LatestVCSWkid(0)
Storage Info:
- Storage Format: esriMapCacheStorageModeCompactV2
- Packet Size: 16
Extent:
XMin: -8051748.850905182
YMin: 2098573.2098050294
XMax: -8050682.36013333
YMax: 2099480.3918781593
Spatial Reference: 102100
(3857)
LatestVCSWkid(0)
Initial Extent:
XMin: -8051748.850905182
YMin: 2098573.2098050294
XMax: -8050682.36013333
YMax: 2099480.3918781593
Spatial Reference: 102100
(3857)
LatestVCSWkid(0)
Full Extent:
XMin: -8051748.850905182
YMin: 2098573.2098050294
XMax: -8050682.36013333
YMax: 2099480.3918781593
Spatial Reference: 102100
(3857)
LatestVCSWkid(0)
Pixel Size X: 0.045232452788680225
Pixel Size Y: 0.04523245278868202
Band Count: 4
Pixel Type: U8
RasterFunction Infos: {"rasterFunctionInfos": [{
"name": "None",
"description": "",
"help": ""
}]}
Mensuration Capabilities: Basic
Inspection Capabilities:
Has Histograms: true
Has Colormap: false
Has Multi Dimensions : false
Rendering Rule:
Min Scale: 0
Max Scale: 0
Copyright Text:
Service Data Type: esriImageServiceDataTypeGeneric
Min Values: 1, 1, 1, 255
Max Values: 255, 255, 255, 255
Mean Values: 111.26985176308095, 111.022605653601, 95.89359797277987, 255
Standard Deviation Values: 57.809654046082514, 53.54775529337802, 53.09029152875682, 0
Object ID Field:
Fields:
None
Default Mosaic Method: Center
Allowed Mosaic Methods:
SortField:
SortValue: null
Mosaic Operator: First
Default Compression Quality: 75
Default Resampling Method: Bilinear
Max Record Count: null
Max Image Height: 4100
Max Image Width: 15000
Max Download Image Count: null
Max Mosaic Image Count: null
Allow Raster Function: true
Allow Copy: true
Allow Analysis: true
Allow Compute TiePoints: false
Supports Statistics: false
Supports Advanced Queries: false
Use StandardizedQueries: true
Raster Type Infos:
Name: Raster Dataset
Description: Supports all ArcGIS Raster Datasets
Help:
Has Raster Attribute Table: false
Edit Fields Info: null
Ownership Based AccessControl For Rasters: null
Child Resources:
Info
Histograms
Statistics
Key Properties
Legend
Raster Function Infos
Supported Operations:
Export Image
Identify
Compute Histograms
Compute Statistics Histograms
Get Samples
Compute Class Statistics
Query Boundary
Compute Pixel Location
Compute Angles
Validate
Project