View In:
ArcGIS JavaScript
ArcGIS Online Map Viewer
ArcGIS Earth
Service Description: Hosted/HTI_Drone_Port_CroixBossales
Name: Hosted/HTI_Drone_Port_CroixBossales
Description:
Single Fused Map Cache: true
Tile Info:
- Height: 256
- Width: 256
- DPI: 96
-
Levels of Detail: 9
-
Level ID: 0
[ Start Tile, End Tile ]
- Resolution: 11.525806219775353
- Scale: 43562.01512376534
-
Level ID: 1
[ Start Tile, End Tile ]
- Resolution: 5.762903109887676
- Scale: 21781.00756188267
-
Level ID: 2
[ Start Tile, End Tile ]
- Resolution: 2.881451554943838
- Scale: 10890.503780941335
-
Level ID: 3
[ Start Tile, End Tile ]
- Resolution: 1.440725777471919
- Scale: 5445.251890470668
-
Level ID: 4
[ Start Tile, End Tile ]
- Resolution: 0.7203628887359596
- Scale: 2722.625945235334
-
Level ID: 5
[ Start Tile, End Tile ]
- Resolution: 0.3601814443679798
- Scale: 1361.312972617667
-
Level ID: 6
[ Start Tile, End Tile ]
- Resolution: 0.1800907221839899
- Scale: 680.6564863088335
-
Level ID: 7
[ Start Tile, End Tile ]
- Resolution: 0.09004536109199494
- Scale: 340.3282431544167
-
Level ID: 8
[ Start Tile, End Tile ]
- Resolution: 0.04502268054599747
- Scale: 170.16412157720836
- Format: LERC2D
- Compression Quality: 100000.0
- LERC Error: 0.1
- Origin: X: -8054151.615141719
Y: 2103446.2113810433
- Spatial Reference: 102100
(3857)
LatestVCSWkid(0)
Storage Info:
- Storage Format: esriMapCacheStorageModeCompactV2
- Packet Size: 16
Extent:
XMin: -8054151.615141719
YMin: 2101102.8258813047
XMax: -8051705.622953015
YMax: 2103446.2113810433
Spatial Reference: 102100
(3857)
LatestVCSWkid(0)
Initial Extent:
XMin: -8054151.615141719
YMin: 2101102.8258813047
XMax: -8051705.622953015
YMax: 2103446.2113810433
Spatial Reference: 102100
(3857)
LatestVCSWkid(0)
Full Extent:
XMin: -8054151.615141719
YMin: 2101102.8258813047
XMax: -8051705.622953015
YMax: 2103446.2113810433
Spatial Reference: 102100
(3857)
LatestVCSWkid(0)
Pixel Size X: 0.04502268054600333
Pixel Size Y: 0.04502268054599747
Band Count: 4
Pixel Type: U8
RasterFunction Infos: {"rasterFunctionInfos": [{
"name": "None",
"description": "",
"help": ""
}]}
Mensuration Capabilities: Basic
Inspection Capabilities:
Has Histograms: true
Has Colormap: false
Has Multi Dimensions : false
Rendering Rule:
Min Scale: 0
Max Scale: 0
Copyright Text:
Service Data Type: esriImageServiceDataTypeGeneric
Min Values: 1, 1, 1, 255
Max Values: 255, 255, 255, 255
Mean Values: 107.88872707119674, 108.73788109373929, 100.76102926712923, 255
Standard Deviation Values: 57.436140924806956, 53.31627667071059, 53.34035210692303, 0
Object ID Field:
Fields:
None
Default Mosaic Method: Center
Allowed Mosaic Methods:
SortField:
SortValue: null
Mosaic Operator: First
Default Compression Quality: 75
Default Resampling Method: Bilinear
Max Record Count: null
Max Image Height: 4100
Max Image Width: 15000
Max Download Image Count: null
Max Mosaic Image Count: null
Allow Raster Function: true
Allow Copy: true
Allow Analysis: true
Allow Compute TiePoints: false
Supports Statistics: false
Supports Advanced Queries: false
Use StandardizedQueries: true
Raster Type Infos:
Name: Raster Dataset
Description: Supports all ArcGIS Raster Datasets
Help:
Has Raster Attribute Table: false
Edit Fields Info: null
Ownership Based AccessControl For Rasters: null
Child Resources:
Info
Histograms
Statistics
Key Properties
Legend
Raster Function Infos
Supported Operations:
Export Image
Identify
Compute Histograms
Compute Statistics Histograms
Get Samples
Compute Class Statistics
Query Boundary
Compute Pixel Location
Compute Angles
Validate
Project