View In:
ArcGIS JavaScript
ArcGIS Online Map Viewer
ArcGIS Earth
Service Description: Hosted/HTI_Drone_Port_Rue
Name: Hosted/HTI_Drone_Port_Rue
Description:
Single Fused Map Cache: true
Tile Info:
- Height: 256
- Width: 256
- DPI: 96
-
Levels of Detail: 8
-
Level ID: 0
[ Start Tile, End Tile ]
- Resolution: 6.399774677604459
- Scale: 24188.0763894996
-
Level ID: 1
[ Start Tile, End Tile ]
- Resolution: 3.1998873388022293
- Scale: 12094.0381947498
-
Level ID: 2
[ Start Tile, End Tile ]
- Resolution: 1.5999436694011147
- Scale: 6047.0190973749
-
Level ID: 3
[ Start Tile, End Tile ]
- Resolution: 0.7999718347005573
- Scale: 3023.50954868745
-
Level ID: 4
[ Start Tile, End Tile ]
- Resolution: 0.39998591735027866
- Scale: 1511.754774343725
-
Level ID: 5
[ Start Tile, End Tile ]
- Resolution: 0.19999295867513933
- Scale: 755.8773871718626
-
Level ID: 6
[ Start Tile, End Tile ]
- Resolution: 0.09999647933756967
- Scale: 377.9386935859313
-
Level ID: 7
[ Start Tile, End Tile ]
- Resolution: 0.04999823966878483
- Scale: 188.96934679296564
- Format: LERC2D
- Compression Quality: 100000.0
- LERC Error: 0.1
- Origin: X: -8053838.4351745825
Y: 2103418.5176921114
- Spatial Reference: 102100
(3857)
LatestVCSWkid(0)
Storage Info:
- Storage Format: esriMapCacheStorageModeCompactV2
- Packet Size: 16
Extent:
XMin: -8053838.4351745825
YMin: 2102075.1649886905
XMax: -8052614.078281573
YMax: 2103418.5176921114
Spatial Reference: 102100
(3857)
LatestVCSWkid(0)
Initial Extent:
XMin: -8053838.4351745825
YMin: 2102075.1649886905
XMax: -8052614.078281573
YMax: 2103418.5176921114
Spatial Reference: 102100
(3857)
LatestVCSWkid(0)
Full Extent:
XMin: -8053838.4351745825
YMin: 2102075.1649886905
XMax: -8052614.078281573
YMax: 2103418.5176921114
Spatial Reference: 102100
(3857)
LatestVCSWkid(0)
Pixel Size X: 0.04999823966879721
Pixel Size Y: 0.04999823966878483
Band Count: 4
Pixel Type: U8
RasterFunction Infos: {"rasterFunctionInfos": [{
"name": "None",
"description": "",
"help": ""
}]}
Mensuration Capabilities: Basic
Inspection Capabilities:
Has Histograms: true
Has Colormap: false
Has Multi Dimensions : false
Rendering Rule:
Min Scale: 0
Max Scale: 0
Copyright Text:
Service Data Type: esriImageServiceDataTypeGeneric
Min Values: 0, 0, 0, 255
Max Values: 255, 255, 255, 255
Mean Values: 113.58771740751034, 114.15766952320791, 111.3440966032306, 255
Standard Deviation Values: 56.666198276677974, 51.71614560968235, 49.324794688962825, 0
Object ID Field:
Fields:
None
Default Mosaic Method: Center
Allowed Mosaic Methods:
SortField:
SortValue: null
Mosaic Operator: First
Default Compression Quality: 75
Default Resampling Method: Bilinear
Max Record Count: null
Max Image Height: 4100
Max Image Width: 15000
Max Download Image Count: null
Max Mosaic Image Count: null
Allow Raster Function: true
Allow Copy: true
Allow Analysis: true
Allow Compute TiePoints: false
Supports Statistics: false
Supports Advanced Queries: false
Use StandardizedQueries: true
Raster Type Infos:
Name: Raster Dataset
Description: Supports all ArcGIS Raster Datasets
Help:
Has Raster Attribute Table: false
Edit Fields Info: null
Ownership Based AccessControl For Rasters: null
Child Resources:
Info
Histograms
Statistics
Key Properties
Legend
Raster Function Infos
Supported Operations:
Export Image
Identify
Compute Histograms
Compute Statistics Histograms
Get Samples
Compute Class Statistics
Query Boundary
Compute Pixel Location
Compute Angles
Validate
Project