View In:
ArcGIS JavaScript
ArcGIS Online Map Viewer
ArcGIS Earth
Service Description: Hosted/HTI_Drone_StAntoine
Name: Hosted/HTI_Drone_StAntoine
Description:
Single Fused Map Cache: true
Tile Info:
- Height: 256
- Width: 256
- DPI: 96
-
Levels of Detail: 9
-
Level ID: 0
[ Start Tile, End Tile ]
- Resolution: 12.41672680296588
- Scale: 46929.267286345595
-
Level ID: 1
[ Start Tile, End Tile ]
- Resolution: 6.20836340148294
- Scale: 23464.633643172798
-
Level ID: 2
[ Start Tile, End Tile ]
- Resolution: 3.10418170074147
- Scale: 11732.316821586399
-
Level ID: 3
[ Start Tile, End Tile ]
- Resolution: 1.552090850370735
- Scale: 5866.158410793199
-
Level ID: 4
[ Start Tile, End Tile ]
- Resolution: 0.7760454251853675
- Scale: 2933.0792053965997
-
Level ID: 5
[ Start Tile, End Tile ]
- Resolution: 0.3880227125926837
- Scale: 1466.5396026982999
-
Level ID: 6
[ Start Tile, End Tile ]
- Resolution: 0.19401135629634186
- Scale: 733.2698013491499
-
Level ID: 7
[ Start Tile, End Tile ]
- Resolution: 0.09700567814817093
- Scale: 366.63490067457496
-
Level ID: 8
[ Start Tile, End Tile ]
- Resolution: 0.048502839074085466
- Scale: 183.31745033728748
- Format: LERC2D
- Compression Quality: 100000.0
- LERC Error: 0.1
- Origin: X: -8051946.61831118
Y: 2102935.481244641
- Spatial Reference: 102100
(3857)
LatestVCSWkid(0)
Storage Info:
- Storage Format: esriMapCacheStorageModeCompactV2
- Packet Size: 16
Extent:
XMin: -8051946.61831118
YMin: 2100185.6127833356
XMax: -8048861.304214838
YMax: 2102935.481244641
Spatial Reference: 102100
(3857)
LatestVCSWkid(0)
Initial Extent:
XMin: -8051946.61831118
YMin: 2100185.6127833356
XMax: -8048861.304214838
YMax: 2102935.481244641
Spatial Reference: 102100
(3857)
LatestVCSWkid(0)
Full Extent:
XMin: -8051946.61831118
YMin: 2100185.6127833356
XMax: -8048861.304214838
YMax: 2102935.481244641
Spatial Reference: 102100
(3857)
LatestVCSWkid(0)
Pixel Size X: 0.04850283907408846
Pixel Size Y: 0.048502839074085466
Band Count: 4
Pixel Type: U8
RasterFunction Infos: {"rasterFunctionInfos": [{
"name": "None",
"description": "",
"help": ""
}]}
Mensuration Capabilities: Basic
Inspection Capabilities:
Has Histograms: true
Has Colormap: false
Has Multi Dimensions : false
Rendering Rule:
Min Scale: 0
Max Scale: 0
Copyright Text:
Service Data Type: esriImageServiceDataTypeGeneric
Min Values: 1, 1, 1, 255
Max Values: 255, 255, 255, 255
Mean Values: 120.75869169510862, 119.92769069863178, 113.26850185592288, 255
Standard Deviation Values: 59.40718718944235, 57.07946865298949, 59.518817864676656, 0
Object ID Field:
Fields:
None
Default Mosaic Method: Center
Allowed Mosaic Methods:
SortField:
SortValue: null
Mosaic Operator: First
Default Compression Quality: 75
Default Resampling Method: Bilinear
Max Record Count: null
Max Image Height: 4100
Max Image Width: 15000
Max Download Image Count: null
Max Mosaic Image Count: null
Allow Raster Function: true
Allow Copy: true
Allow Analysis: true
Allow Compute TiePoints: false
Supports Statistics: false
Supports Advanced Queries: false
Use StandardizedQueries: true
Raster Type Infos:
Name: Raster Dataset
Description: Supports all ArcGIS Raster Datasets
Help:
Has Raster Attribute Table: false
Edit Fields Info: null
Ownership Based AccessControl For Rasters: null
Child Resources:
Info
Histograms
Statistics
Key Properties
Legend
Raster Function Infos
Supported Operations:
Export Image
Identify
Compute Histograms
Compute Statistics Histograms
Get Samples
Compute Class Statistics
Query Boundary
Compute Pixel Location
Compute Angles
Validate
Project