View In:
ArcGIS JavaScript
ArcGIS Online Map Viewer
ArcGIS Earth
Service Description: Hosted/HTI_Drone_StGerard
Name: Hosted/HTI_Drone_StGerard
Description:
Single Fused Map Cache: true
Tile Info:
- Height: 256
- Width: 256
- DPI: 96
-
Levels of Detail: 8
-
Level ID: 0
[ Start Tile, End Tile ]
- Resolution: 6.108116060737689
- Scale: 23085.746813879312
-
Level ID: 1
[ Start Tile, End Tile ]
- Resolution: 3.0540580303688447
- Scale: 11542.873406939656
-
Level ID: 2
[ Start Tile, End Tile ]
- Resolution: 1.5270290151844224
- Scale: 5771.436703469828
-
Level ID: 3
[ Start Tile, End Tile ]
- Resolution: 0.7635145075922112
- Scale: 2885.718351734914
-
Level ID: 4
[ Start Tile, End Tile ]
- Resolution: 0.3817572537961056
- Scale: 1442.859175867457
-
Level ID: 5
[ Start Tile, End Tile ]
- Resolution: 0.1908786268980528
- Scale: 721.4295879337285
-
Level ID: 6
[ Start Tile, End Tile ]
- Resolution: 0.0954393134490264
- Scale: 360.71479396686425
-
Level ID: 7
[ Start Tile, End Tile ]
- Resolution: 0.0477196567245132
- Scale: 180.35739698343212
- Format: LERC2D
- Compression Quality: 100000.0
- LERC Error: 0.1
- Origin: X: -8053209.42736478
Y: 2100394.1829012996
- Spatial Reference: 102100
(3857)
LatestVCSWkid(0)
Storage Info:
- Storage Format: esriMapCacheStorageModeCompactV2
- Packet Size: 16
Extent:
XMin: -8053209.42736478
YMin: 2098937.44494047
XMax: -8050544.857172596
YMax: 2100394.1829012996
Spatial Reference: 102100
(3857)
LatestVCSWkid(0)
Initial Extent:
XMin: -8053209.42736478
YMin: 2098937.44494047
XMax: -8050544.857172596
YMax: 2100394.1829012996
Spatial Reference: 102100
(3857)
LatestVCSWkid(0)
Full Extent:
XMin: -8053209.42736478
YMin: 2098937.44494047
XMax: -8050544.857172596
YMax: 2100394.1829012996
Spatial Reference: 102100
(3857)
LatestVCSWkid(0)
Pixel Size X: 0.0477196567245132
Pixel Size Y: 0.04771965672451926
Band Count: 4
Pixel Type: U8
RasterFunction Infos: {"rasterFunctionInfos": [{
"name": "None",
"description": "",
"help": ""
}]}
Mensuration Capabilities: Basic
Inspection Capabilities:
Has Histograms: true
Has Colormap: false
Has Multi Dimensions : false
Rendering Rule:
Min Scale: 0
Max Scale: 0
Copyright Text:
Service Data Type: esriImageServiceDataTypeGeneric
Min Values: 1, 1, 1, 255
Max Values: 255, 255, 255, 255
Mean Values: 119.8377836053443, 120.01740996259608, 107.8297961944516, 255
Standard Deviation Values: 57.6206817659097, 54.3863662606245, 57.436030692025064, 0
Object ID Field:
Fields:
None
Default Mosaic Method: Center
Allowed Mosaic Methods:
SortField:
SortValue: null
Mosaic Operator: First
Default Compression Quality: 75
Default Resampling Method: Bilinear
Max Record Count: null
Max Image Height: 4100
Max Image Width: 15000
Max Download Image Count: null
Max Mosaic Image Count: null
Allow Raster Function: true
Allow Copy: true
Allow Analysis: true
Allow Compute TiePoints: false
Supports Statistics: false
Supports Advanced Queries: false
Use StandardizedQueries: true
Raster Type Infos:
Name: Raster Dataset
Description: Supports all ArcGIS Raster Datasets
Help:
Has Raster Attribute Table: false
Edit Fields Info: null
Ownership Based AccessControl For Rasters: null
Child Resources:
Info
Histograms
Statistics
Key Properties
Legend
Raster Function Infos
Supported Operations:
Export Image
Identify
Compute Histograms
Compute Statistics Histograms
Get Samples
Compute Class Statistics
Query Boundary
Compute Pixel Location
Compute Angles
Validate
Project