View In:
ArcGIS JavaScript
ArcGIS Online Map Viewer
ArcGIS Earth
Service Description: Hosted/HTI_Drone_SylvioCator
Name: Hosted/HTI_Drone_SylvioCator
Description:
Single Fused Map Cache: true
Tile Info:
- Height: 256
- Width: 256
- DPI: 96
-
Levels of Detail: 7
-
Level ID: 0
[ Start Tile, End Tile ]
- Resolution: 3.073684581167228
- Scale: 11617.052348213161
-
Level ID: 1
[ Start Tile, End Tile ]
- Resolution: 1.536842290583614
- Scale: 5808.526174106581
-
Level ID: 2
[ Start Tile, End Tile ]
- Resolution: 0.768421145291807
- Scale: 2904.2630870532903
-
Level ID: 3
[ Start Tile, End Tile ]
- Resolution: 0.3842105726459035
- Scale: 1452.1315435266451
-
Level ID: 4
[ Start Tile, End Tile ]
- Resolution: 0.19210528632295176
- Scale: 726.0657717633226
-
Level ID: 5
[ Start Tile, End Tile ]
- Resolution: 0.09605264316147588
- Scale: 363.0328858816613
-
Level ID: 6
[ Start Tile, End Tile ]
- Resolution: 0.04802632158073794
- Scale: 181.51644294083064
- Format: LERC2D
- Compression Quality: 100000.0
- LERC Error: 0.1
- Origin: X: -8053891.803550625
Y: 2100781.530936072
- Spatial Reference: 102100
(3857)
LatestVCSWkid(0)
Storage Info:
- Storage Format: esriMapCacheStorageModeCompactV2
- Packet Size: 16
Extent:
XMin: -8053891.803550625
YMin: 2100097.011774582
XMax: -8052929.500145112
YMax: 2100781.530936072
Spatial Reference: 102100
(3857)
LatestVCSWkid(0)
Initial Extent:
XMin: -8053891.803550625
YMin: 2100097.011774582
XMax: -8052929.500145112
YMax: 2100781.530936072
Spatial Reference: 102100
(3857)
LatestVCSWkid(0)
Full Extent:
XMin: -8053891.803550625
YMin: 2100097.011774582
XMax: -8052929.500145112
YMax: 2100781.530936072
Spatial Reference: 102100
(3857)
LatestVCSWkid(0)
Pixel Size X: 0.048026321580728434
Pixel Size Y: 0.04802632158073794
Band Count: 4
Pixel Type: U8
RasterFunction Infos: {"rasterFunctionInfos": [{
"name": "None",
"description": "",
"help": ""
}]}
Mensuration Capabilities: Basic
Inspection Capabilities:
Has Histograms: true
Has Colormap: false
Has Multi Dimensions : false
Rendering Rule:
Min Scale: 0
Max Scale: 0
Copyright Text:
Service Data Type: esriImageServiceDataTypeGeneric
Min Values: 1, 1, 1, 255
Max Values: 255, 255, 255, 255
Mean Values: 112.80885893758467, 109.75775187432248, 103.40937157941904, 255
Standard Deviation Values: 61.418451102631884, 58.29664025825311, 57.96077717261885, 0
Object ID Field:
Fields:
None
Default Mosaic Method: Center
Allowed Mosaic Methods:
SortField:
SortValue: null
Mosaic Operator: First
Default Compression Quality: 75
Default Resampling Method: Bilinear
Max Record Count: null
Max Image Height: 4100
Max Image Width: 15000
Max Download Image Count: null
Max Mosaic Image Count: null
Allow Raster Function: true
Allow Copy: true
Allow Analysis: true
Allow Compute TiePoints: false
Supports Statistics: false
Supports Advanced Queries: false
Use StandardizedQueries: true
Raster Type Infos:
Name: Raster Dataset
Description: Supports all ArcGIS Raster Datasets
Help:
Has Raster Attribute Table: false
Edit Fields Info: null
Ownership Based AccessControl For Rasters: null
Child Resources:
Info
Histograms
Statistics
Key Properties
Legend
Raster Function Infos
Supported Operations:
Export Image
Identify
Compute Histograms
Compute Statistics Histograms
Get Samples
Compute Class Statistics
Query Boundary
Compute Pixel Location
Compute Angles
Validate
Project